BEGIN:VCALENDAR
VERSION:2.0
PRODID:-//Red Carpet Nightclub - ECPv6.15.20//NONSGML v1.0//EN
CALSCALE:GREGORIAN
METHOD:PUBLISH
X-ORIGINAL-URL:https://www.redcarpetnightclub.com
X-WR-CALDESC:Events for Red Carpet Nightclub
REFRESH-INTERVAL;VALUE=DURATION:PT1H
X-Robots-Tag:noindex
X-PUBLISHED-TTL:PT1H
BEGIN:VTIMEZONE
TZID:America/Chicago
BEGIN:DAYLIGHT
TZOFFSETFROM:-0600
TZOFFSETTO:-0500
TZNAME:CDT
DTSTART:20240310T080000
END:DAYLIGHT
BEGIN:STANDARD
TZOFFSETFROM:-0500
TZOFFSETTO:-0600
TZNAME:CST
DTSTART:20241103T070000
END:STANDARD
BEGIN:DAYLIGHT
TZOFFSETFROM:-0600
TZOFFSETTO:-0500
TZNAME:CDT
DTSTART:20250309T080000
END:DAYLIGHT
BEGIN:STANDARD
TZOFFSETFROM:-0500
TZOFFSETTO:-0600
TZNAME:CST
DTSTART:20251102T070000
END:STANDARD
BEGIN:DAYLIGHT
TZOFFSETFROM:-0600
TZOFFSETTO:-0500
TZNAME:CDT
DTSTART:20260308T080000
END:DAYLIGHT
BEGIN:STANDARD
TZOFFSETFROM:-0500
TZOFFSETTO:-0600
TZNAME:CST
DTSTART:20261101T070000
END:STANDARD
END:VTIMEZONE
BEGIN:VEVENT
DTSTART;TZID=America/Chicago:20251010T203000
DTEND;TZID=America/Chicago:20251010T235500
DTSTAMP:20260423T135345
CREATED:20250414T203055Z
LAST-MODIFIED:20251008T183344Z
UID:10008961-1760128200-1760140500@www.redcarpetnightclub.com
SUMMARY:Friday Mainstage Ticket - 45th Anniversary Party
DESCRIPTION:Celebrate our 45th on Friday October 10th:  \nSET TIMES:  DOORS @ 7:00 PM \nTim Mahoney & The Meanies: 8:30 PM – 10:00 PM \nAND \nGB Leighton: 10:30 PM – MIDNIGHT
URL:https://www.redcarpetnightclub.com/upcoming-events/45th-anniversary-party-friday/
LOCATION:Main Stage
CATEGORIES:Live Music,Live Performace
ATTACH;FMTTYPE=application/pdf:https://www.redcarpetnightclub.com/wp-content/uploads/2025/04/45th-Anniversary-1-1.pdf
END:VEVENT
BEGIN:VEVENT
DTSTART;TZID=America/Chicago:20251004T190000
DTEND;TZID=America/Chicago:20251004T235500
DTSTAMP:20260423T135345
CREATED:20250904T144535Z
LAST-MODIFIED:20250923T012419Z
UID:10009448-1759604400-1759622100@www.redcarpetnightclub.com
SUMMARY:Rob Daniel Band
DESCRIPTION:Rob Daniel Band with Blue Dirt Road \nDoors: 6:30 PM\nShow: 7 PM \n 
URL:https://www.redcarpetnightclub.com/upcoming-events/rob-daniel-band/
LOCATION:Main Stage
CATEGORIES:Live Music,Live Performace
ATTACH;FMTTYPE=image/jpeg:https://www.redcarpetnightclub.com/wp-content/uploads/2025/09/Rob-Daniel-Band-1.jpg
END:VEVENT
BEGIN:VEVENT
DTSTART;TZID=America/Chicago:20251003T210000
DTEND;TZID=America/Chicago:20251003T233000
DTSTAMP:20260423T135345
CREATED:20250904T143706Z
LAST-MODIFIED:20250904T144015Z
UID:10009447-1759525200-1759534200@www.redcarpetnightclub.com
SUMMARY:Let Them Cook
DESCRIPTION:Doors: 8:30 \nShow: 9 PM
URL:https://www.redcarpetnightclub.com/upcoming-events/let-them-cook-3/
LOCATION:Main Stage
CATEGORIES:Live Music,Live Performace
ATTACH;FMTTYPE=image/jpeg:https://www.redcarpetnightclub.com/wp-content/uploads/2025/09/Let-Them-Cook-Drag-Burlesque.jpg
END:VEVENT
BEGIN:VEVENT
DTSTART;TZID=America/Chicago:20250927T210000
DTEND;TZID=America/Chicago:20250927T235500
DTSTAMP:20260423T135345
CREATED:20250904T141033Z
LAST-MODIFIED:20250923T011421Z
UID:10009446-1759006800-1759017300@www.redcarpetnightclub.com
SUMMARY:2 Weeks Notice
DESCRIPTION:Doors: 8:30 PM  \nMUSIC 9:00 PM  \nTICKETS: $5.00 Advance / $10.00 at Door \nGet Advanced Tickets Here: \nhttps://app.opendate.io/e/2-weeks-notice-september-27-2025-601958
URL:https://www.redcarpetnightclub.com/upcoming-events/2-weeks-notice/
LOCATION:Main Stage
CATEGORIES:Live Music,Live Performace
ATTACH;FMTTYPE=image/jpeg:https://www.redcarpetnightclub.com/wp-content/uploads/2025/09/2-Weeks-Notice.jpg
END:VEVENT
BEGIN:VEVENT
DTSTART;TZID=America/Chicago:20250926T203000
DTEND;TZID=America/Chicago:20250926T235500
DTSTAMP:20260423T135345
CREATED:20250904T140442Z
LAST-MODIFIED:20250923T011228Z
UID:10009445-1758918600-1758930900@www.redcarpetnightclub.com
SUMMARY:Rook 10
DESCRIPTION:Rook 10 on the Mainstage \nDoors 8:30 PM \nMusic: 9 PM \n 
URL:https://www.redcarpetnightclub.com/upcoming-events/rook-10-3/
LOCATION:Main Stage
CATEGORIES:Live Music,Live Performace
ATTACH;FMTTYPE=image/jpeg:https://www.redcarpetnightclub.com/wp-content/uploads/2025/09/Rook-10-1.jpg
END:VEVENT
BEGIN:VEVENT
DTSTART;TZID=America/Chicago:20250919T191500
DTEND;TZID=America/Chicago:20250919T233000
DTSTAMP:20260423T135345
CREATED:20250801T201502Z
LAST-MODIFIED:20250904T141349Z
UID:10009329-1758309300-1758324600@www.redcarpetnightclub.com
SUMMARY:Laugh Your Tatts Off
DESCRIPTION:WANT A FREE TATTOO? HOW ABOUT A CHANCE TO WATCH ONE BEING DONE LIVE?\nALL YOU HAVE TO DO IS SHOW US YOUR SKILLS! IF YOU HAVE A SPECIAL TALENT\, SKILL\, OR ANYTHING OF THE LIKE AND YOU CAN IMPRESS OUR PANNEL OF JUDGES YOU CAN WIN A FREE FLASH ART TATTOO DONE LIVE AT THE SHOW!\nSIGN UP BEFORE THE SHOW FOR YOUR CHANCE TO WIN\, OR JUST COME TO WATCH!\nYOUR HOST: ERICK AUSTIN\nLOCAL LEGEND\, AND PROFESSIONAL TATTOO ARTIST JON LORTZ FROM BECKER’S MODIFY TATTOO AND PIERCING WILL BE YOUR RESIDENT TATTOO ARTIST FOR THE EVENING!
URL:https://www.redcarpetnightclub.com/upcoming-events/laugh-your-tatts-off/
LOCATION:Main Stage
ATTACH;FMTTYPE=image/jpeg:https://www.redcarpetnightclub.com/wp-content/uploads/2025/08/Tatts-Off.jpg
END:VEVENT
BEGIN:VEVENT
DTSTART;TZID=America/Chicago:20250912T210000
DTEND;TZID=America/Chicago:20250912T233000
DTSTAMP:20260423T135345
CREATED:20250904T134437Z
LAST-MODIFIED:20250910T201139Z
UID:10009357-1757710800-1757719800@www.redcarpetnightclub.com
SUMMARY:Motorcityhead
DESCRIPTION:Doors at 8:30 PM \nMusic at 9:00 PM \nTickets: $10.00 Advance / $15.00 at the Door \nhttps://app.opendate.io/e/motorcityhead-shot-down-in-flames-beyond-forever-september-12-2025-611251
URL:https://www.redcarpetnightclub.com/upcoming-events/motorcityhead/
LOCATION:Main Stage
CATEGORIES:Live Music,Live Performace
ATTACH;FMTTYPE=image/jpeg:https://www.redcarpetnightclub.com/wp-content/uploads/2025/09/Motorcity-Head-2.jpg
END:VEVENT
BEGIN:VEVENT
DTSTART;TZID=America/Chicago:20250911T210000
DTEND;TZID=America/Chicago:20250911T233000
DTSTAMP:20260423T135345
CREATED:20250904T133533Z
LAST-MODIFIED:20250904T154432Z
UID:10009355-1757624400-1757633400@www.redcarpetnightclub.com
SUMMARY:Let Them Cook
DESCRIPTION:Doors: 8:30 \nShow: 9:00 PM \nTickets: Advanced: $5.00 / Door: $10.00 \nhttps://app.opendate.io/e/let-them-cook-september-11-2025-623358
URL:https://www.redcarpetnightclub.com/upcoming-events/let-them-cook-2/
LOCATION:Main Stage
CATEGORIES:Live Music,Live Performace
ATTACH;FMTTYPE=image/jpeg:https://www.redcarpetnightclub.com/wp-content/uploads/2025/09/Let-Them-Cook-Drag-Burlesque.jpg
END:VEVENT
BEGIN:VEVENT
DTSTART;TZID=America/Chicago:20250906T200000
DTEND;TZID=America/Chicago:20250906T233000
DTSTAMP:20260423T135345
CREATED:20250904T132630Z
LAST-MODIFIED:20250904T145155Z
UID:10009354-1757188800-1757201400@www.redcarpetnightclub.com
SUMMARY:Pachanga Society
DESCRIPTION:Get your tickets here early or at the door: $10.00 \nhttps://app.opendate.io/e/pachanga-society-september-06-2025-605008 \n 
URL:https://www.redcarpetnightclub.com/upcoming-events/pachanga-society/
LOCATION:Main Stage
CATEGORIES:Live Music,Live Performace
ATTACH;FMTTYPE=image/jpeg:https://www.redcarpetnightclub.com/wp-content/uploads/2025/09/Picture1.jpg
END:VEVENT
BEGIN:VEVENT
DTSTART;TZID=America/Chicago:20250808T190000
DTEND;TZID=America/Chicago:20250809T003000
DTSTAMP:20260423T135345
CREATED:20250801T195209Z
LAST-MODIFIED:20250801T195209Z
UID:10009328-1754679600-1754699400@www.redcarpetnightclub.com
SUMMARY:Gin Mobsters-Elour-Canada Goose
DESCRIPTION:
URL:https://www.redcarpetnightclub.com/upcoming-events/gin-mobsters-elour-canada-goose/
LOCATION:Main Stage
ATTACH;FMTTYPE=image/jpeg:https://www.redcarpetnightclub.com/wp-content/uploads/2025/08/Gin-Mobsters.jpg
END:VEVENT
BEGIN:VEVENT
DTSTART;TZID=America/Chicago:20250711T200000
DTEND;TZID=America/Chicago:20250712T013000
DTSTAMP:20260423T135345
CREATED:20250625T205000Z
LAST-MODIFIED:20250625T205000Z
UID:10009276-1752264000-1752283800@www.redcarpetnightclub.com
SUMMARY:Let Them Cook
DESCRIPTION:
URL:https://www.redcarpetnightclub.com/upcoming-events/let-them-cook/
LOCATION:Main Stage
CATEGORIES:Live Performace,Music / DJ
ATTACH;FMTTYPE=image/jpeg:https://www.redcarpetnightclub.com/wp-content/uploads/2025/06/let-them-cook.jpg
END:VEVENT
BEGIN:VEVENT
DTSTART;TZID=America/Chicago:20250614T193000
DTEND;TZID=America/Chicago:20250614T233000
DTSTAMP:20260423T135345
CREATED:20250610T213133Z
LAST-MODIFIED:20250610T213133Z
UID:10009007-1749929400-1749943800@www.redcarpetnightclub.com
SUMMARY:Julio Goldstein
DESCRIPTION:
URL:https://www.redcarpetnightclub.com/upcoming-events/julio-goldstein/
LOCATION:Main Stage
CATEGORIES:Live Music
ATTACH;FMTTYPE=image/jpeg:https://www.redcarpetnightclub.com/wp-content/uploads/2025/06/julio-Goldstein.jpg
END:VEVENT
BEGIN:VEVENT
DTSTART;TZID=America/Chicago:20250612T190000
DTEND;TZID=America/Chicago:20250612T223000
DTSTAMP:20260423T135345
CREATED:20241210T183309Z
LAST-MODIFIED:20241210T183309Z
UID:10008225-1749754800-1749767400@www.redcarpetnightclub.com
SUMMARY:Steve Hofstetter Comedy
DESCRIPTION:
URL:https://www.redcarpetnightclub.com/upcoming-events/steve-hofstetter-comedy/
LOCATION:Main Stage
CATEGORIES:Comedy
ATTACH;FMTTYPE=image/png:https://www.redcarpetnightclub.com/wp-content/uploads/2024/12/steve-hoffstetter.png
END:VEVENT
BEGIN:VEVENT
DTSTART;TZID=America/Chicago:20250607T210000
DTEND;TZID=America/Chicago:20250607T233000
DTSTAMP:20260423T135345
CREATED:20250508T163306Z
LAST-MODIFIED:20250508T163306Z
UID:10008982-1749330000-1749339000@www.redcarpetnightclub.com
SUMMARY:Last Call
DESCRIPTION:
URL:https://www.redcarpetnightclub.com/upcoming-events/last-call/
LOCATION:Main Stage
CATEGORIES:Live Music
ATTACH;FMTTYPE=image/jpeg:https://www.redcarpetnightclub.com/wp-content/uploads/2025/05/last-call.jpg
END:VEVENT
BEGIN:VEVENT
DTSTART;TZID=America/Chicago:20250531T210000
DTEND;TZID=America/Chicago:20250531T233000
DTSTAMP:20260423T135345
CREATED:20250519T201034Z
LAST-MODIFIED:20250519T201034Z
UID:10008995-1748725200-1748734200@www.redcarpetnightclub.com
SUMMARY:Metal Mayhem w/ Steel Reign
DESCRIPTION:
URL:https://www.redcarpetnightclub.com/upcoming-events/metal-mayhem-w-steel-reign/
LOCATION:Main Stage
CATEGORIES:Live Music
ATTACH;FMTTYPE=image/jpeg:https://www.redcarpetnightclub.com/wp-content/uploads/2025/05/steelreign.jpg
END:VEVENT
BEGIN:VEVENT
DTSTART;TZID=America/Chicago:20250510T193000
DTEND;TZID=America/Chicago:20250511T010000
DTSTAMP:20260423T135345
CREATED:20250417T220948Z
LAST-MODIFIED:20250418T194820Z
UID:10008967-1746905400-1746925200@www.redcarpetnightclub.com
SUMMARY:Press Bar Reunion
DESCRIPTION:
URL:https://www.redcarpetnightclub.com/upcoming-events/press-bar-reunion/
LOCATION:Main Stage
CATEGORIES:Live Music
ATTACH;FMTTYPE=image/jpeg:https://www.redcarpetnightclub.com/wp-content/uploads/2025/04/Press-Bar-Reunion.jpeg
END:VEVENT
BEGIN:VEVENT
DTSTART;TZID=America/Chicago:20250509T200000
DTEND;TZID=America/Chicago:20250510T010000
DTSTAMP:20260423T135345
CREATED:20250417T223653Z
LAST-MODIFIED:20250417T223653Z
UID:10008969-1746820800-1746838800@www.redcarpetnightclub.com
SUMMARY:Childhood Trauma
DESCRIPTION:
URL:https://www.redcarpetnightclub.com/upcoming-events/childhood-trauma/
LOCATION:Main Stage
CATEGORIES:Live Music
ATTACH;FMTTYPE=image/jpeg:https://www.redcarpetnightclub.com/wp-content/uploads/2025/04/childhood-trauma.jpg
END:VEVENT
BEGIN:VEVENT
DTSTART;TZID=America/Chicago:20250502T200000
DTEND;TZID=America/Chicago:20250503T010000
DTSTAMP:20260423T135345
CREATED:20250408T232759Z
LAST-MODIFIED:20250410T193501Z
UID:10008954-1746216000-1746234000@www.redcarpetnightclub.com
SUMMARY:Hybrid Theory with Kobb
DESCRIPTION:
URL:https://www.redcarpetnightclub.com/upcoming-events/hybrid-theory-with-kobb/
LOCATION:Main Stage
CATEGORIES:Live Music
ATTACH;FMTTYPE=image/jpeg:https://www.redcarpetnightclub.com/wp-content/uploads/2025/04/Kobbmay2.jpg
END:VEVENT
BEGIN:VEVENT
DTSTART;TZID=America/Chicago:20250426T210000
DTEND;TZID=America/Chicago:20250427T010000
DTSTAMP:20260423T135345
CREATED:20250408T233001Z
LAST-MODIFIED:20250415T171838Z
UID:10008955-1745701200-1745715600@www.redcarpetnightclub.com
SUMMARY:Caster Volor  /  Junkyard Hooligans
DESCRIPTION:
URL:https://www.redcarpetnightclub.com/upcoming-events/castor-valor-junkyard-hooligans/
LOCATION:Main Stage
CATEGORIES:Live Music
ATTACH;FMTTYPE=image/jpeg:https://www.redcarpetnightclub.com/wp-content/uploads/2025/04/castor-volor.jpg
END:VEVENT
END:VCALENDAR