BEGIN:VCALENDAR
VERSION:2.0
PRODID:-//Red Carpet Nightclub - ECPv6.15.20//NONSGML v1.0//EN
CALSCALE:GREGORIAN
METHOD:PUBLISH
X-ORIGINAL-URL:https://www.redcarpetnightclub.com
X-WR-CALDESC:Events for Red Carpet Nightclub
REFRESH-INTERVAL;VALUE=DURATION:PT1H
X-Robots-Tag:noindex
X-PUBLISHED-TTL:PT1H
BEGIN:VTIMEZONE
TZID:America/Chicago
BEGIN:DAYLIGHT
TZOFFSETFROM:-0600
TZOFFSETTO:-0500
TZNAME:CDT
DTSTART:20250309T080000
END:DAYLIGHT
BEGIN:STANDARD
TZOFFSETFROM:-0500
TZOFFSETTO:-0600
TZNAME:CST
DTSTART:20251102T070000
END:STANDARD
BEGIN:DAYLIGHT
TZOFFSETFROM:-0600
TZOFFSETTO:-0500
TZNAME:CDT
DTSTART:20260308T080000
END:DAYLIGHT
BEGIN:STANDARD
TZOFFSETFROM:-0500
TZOFFSETTO:-0600
TZNAME:CST
DTSTART:20261101T070000
END:STANDARD
BEGIN:DAYLIGHT
TZOFFSETFROM:-0600
TZOFFSETTO:-0500
TZNAME:CDT
DTSTART:20270314T080000
END:DAYLIGHT
BEGIN:STANDARD
TZOFFSETFROM:-0500
TZOFFSETTO:-0600
TZNAME:CST
DTSTART:20271107T070000
END:STANDARD
END:VTIMEZONE
BEGIN:VEVENT
DTSTART;TZID=America/Chicago:20260423T200000
DTEND;TZID=America/Chicago:20260424T010000
DTSTAMP:20260420T162508
CREATED:20260415T015650Z
LAST-MODIFIED:20260415T015650Z
UID:10012352-1776974400-1776992400@www.redcarpetnightclub.com
SUMMARY:KVSC END OF YEAR CELEBRATION
DESCRIPTION:Come one\, Come All to KVSC’s Extravaganza Concert! We will be capping off the school year with Live Music performances at The Red Carpet’s Main Stage Room on April 23rd!\nThe Show starts at 9pm\, with Doors opening up at 8pm\n\n\n\n\n\n\n\n\n\n\n\n\n\n\n\n\n\n\n\n\nFREE SHOW
URL:https://www.redcarpetnightclub.com/upcoming-events/kvsc-end-of-year-celebration/
LOCATION:Main Stage
CATEGORIES:Activity,Live Music,Live Performace
ATTACH;FMTTYPE=image/jpeg:https://www.redcarpetnightclub.com/wp-content/uploads/2026/04/KVSC-Extravaganze-Thursday-423.jpg
END:VEVENT
BEGIN:VEVENT
DTSTART;TZID=America/Chicago:20260424T203000
DTEND;TZID=America/Chicago:20260424T235500
DTSTAMP:20260420T162508
CREATED:20260223T222757Z
LAST-MODIFIED:20260420T152919Z
UID:10010498-1777062600-1777074900@www.redcarpetnightclub.com
SUMMARY:KoBb & STiPHBiZKiT
DESCRIPTION:Back on the Mainstage Friday April 24th \nDOORS: 8:30 pm \nSHOW: 9 PM \nKoBb: Minnesota’s only tribute to KoЯn \nStiphBizkit – MN Tribute to Limp Bizkit
URL:https://www.redcarpetnightclub.com/upcoming-events/kobb-stiphbizkit-2/
LOCATION:Main Stage
CATEGORIES:Activity,Live Music,Live Performace
ATTACH;FMTTYPE=image/jpeg:https://www.redcarpetnightclub.com/wp-content/uploads/2026/02/KoBb.jpg
END:VEVENT
BEGIN:VEVENT
DTSTART;TZID=America/Chicago:20260424T210000
DTEND;TZID=America/Chicago:20260425T020000
DTSTAMP:20260420T162508
CREATED:20260420T191305Z
LAST-MODIFIED:20260420T191305Z
UID:10012359-1777064400-1777082400@www.redcarpetnightclub.com
SUMMARY:EDM NIGHT in The Keller w/ DJ CHANCE HANCE
DESCRIPTION:EDM Night in the Keller w/ DJ Chance Hance \nCover: FREE \nDOORS: 9 PM
URL:https://www.redcarpetnightclub.com/upcoming-events/edm-night-in-the-keller-w-dj-chance-hance/
LOCATION:Keller Bar
CATEGORIES:Activity,Music / DJ
ATTACH;FMTTYPE=image/jpeg:https://www.redcarpetnightclub.com/wp-content/uploads/2026/04/Keller-Chris-Hance.jpg
END:VEVENT
BEGIN:VEVENT
DTSTART;TZID=America/Chicago:20260425T210000
DTEND;TZID=America/Chicago:20260425T235500
DTSTAMP:20260420T162508
CREATED:20260414T223304Z
LAST-MODIFIED:20260414T223304Z
UID:10012344-1777150800-1777161300@www.redcarpetnightclub.com
SUMMARY:Analog Vibe // Greydeer // Scarlett Tangerines
DESCRIPTION:Analog Vibe: Minneapolis-based band delivering a diverse set of classic and modern rock tunes that is sure to keep audiences of all ages engaged and dancing. \nGreydeer: Minnesota based dreamo @kaeden.stevens 🎸🎤 @vince.livecchi 🥁 @clemandtsukii \nScarlett Tangerines: alternative rock band from Minneapolis\, MN \nTICKETS COMING SOON! \n 
URL:https://www.redcarpetnightclub.com/upcoming-events/analog-vibe-greydeer-scarlett-tangerines/
LOCATION:Main Stage
CATEGORIES:Activity,Live Music,Live Performace
ATTACH;FMTTYPE=image/png:https://www.redcarpetnightclub.com/wp-content/uploads/2026/01/Analog-Vibe.png
END:VEVENT
BEGIN:VEVENT
DTSTART;TZID=America/Chicago:20260425T213000
DTEND;TZID=America/Chicago:20260426T020000
DTSTAMP:20260420T162508
CREATED:20260420T140435Z
LAST-MODIFIED:20260420T140435Z
UID:10012357-1777152600-1777168800@www.redcarpetnightclub.com
SUMMARY:Placeholder // Liminality // Big Hank // Chelsey
DESCRIPTION:Live in the Keller\, April 25th \nPlaceholder w/ Liminality\, Big Hank & Chelsey \nDOORS: 9 PM \nSHOW: 9:30 PM \nCOVER: $5 \nAGES: 21+
URL:https://www.redcarpetnightclub.com/upcoming-events/placeholder-liminality-big-hank-chelsey/
LOCATION:Keller Bar
CATEGORIES:Activity,Live Music,Live Performace
ATTACH;FMTTYPE=image/jpeg:https://www.redcarpetnightclub.com/wp-content/uploads/2026/04/1000005900.jpg
END:VEVENT
BEGIN:VEVENT
DTSTART;TZID=America/Chicago:20260429T200000
DTEND;TZID=America/Chicago:20260429T230000
DTSTAMP:20260420T162508
CREATED:20260420T152022Z
LAST-MODIFIED:20260420T152022Z
UID:10012358-1777492800-1777503600@www.redcarpetnightclub.com
SUMMARY:Keller Comedy Open Mic // 10 Year Anniversary Special // MAINSTAGE
DESCRIPTION:Come and celebrate the 10 Year Anniversary of Keller Comedy – Open Mic Night!   \nPerformances by  \n\nErick Austin\nTrey Charles\nRyan Middendorf\nLuis Uz\nComrade Tripp\n\nWHEN:  WEDNESDAY APRIL 29th \nWHERE:  BAND ROOM // MAINSTAGE \nDOORS: 7 PM \nSHOWCASE 8 PM \nOPEN MIC: 9 PM \nFREE EVENT!
URL:https://www.redcarpetnightclub.com/upcoming-events/keller-comedy-open-mic-10-year-anniversary-special-mainstage/
LOCATION:Main Stage
CATEGORIES:Activity,Comedy
ATTACH;FMTTYPE=image/jpeg:https://www.redcarpetnightclub.com/wp-content/uploads/2026/04/Keller-Comedy-10-year.jpg
END:VEVENT
BEGIN:VEVENT
DTSTART;TZID=America/Chicago:20260501T193000
DTEND;TZID=America/Chicago:20260501T235500
DTSTAMP:20260420T162508
CREATED:20260206T012517Z
LAST-MODIFIED:20260415T012928Z
UID:10010454-1777663800-1777679700@www.redcarpetnightclub.com
SUMMARY:Pachanga Society w/ Salty Dog
DESCRIPTION:Please come join the Stearns County Pachanga Society celebrating at the Red Carpet Nightclub (featuring the best dancefloor and sound system in central Minnesota) in beautiful downtown St. Cloud. \nSaltydog: Saltydog is a funk jam Improvisational exploration that takes the audience & band on a journey through their playfully crafted folk driven tunes inspired by the likes of everyone from The Talking Heads\, The Band\, those classic country and jam band staples along with everyone in between. \nDoors: 7:30 pm // Show @ 8 pm \nCover: $10 \n 
URL:https://www.redcarpetnightclub.com/upcoming-events/pachanga-society-w-salty-dog/
LOCATION:Main Stage
CATEGORIES:Activity,Live Music,Live Performace
ATTACH;FMTTYPE=image/jpeg:https://www.redcarpetnightclub.com/wp-content/uploads/2026/02/Pachanga-Society-May-1st.jpg
END:VEVENT
BEGIN:VEVENT
DTSTART;TZID=America/Chicago:20260501T210000
DTEND;TZID=America/Chicago:20260501T210000
DTSTAMP:20260420T162508
CREATED:20260414T204336Z
LAST-MODIFIED:20260414T204454Z
UID:10012340-1777669200-1777669200@www.redcarpetnightclub.com
SUMMARY:Heed The Warning // Gruven X // Gradience // Voltaic Drive
DESCRIPTION:Friday May 1st\, we will be returning to St. Cloud at our home away from home Red Carpet Nightclub\n\n\nWe will be joined by Grüven X / Gradience & Voltaic Drive\n\n\nDoors: 8:30p x 21+ w/ ID x $5\n\n\nDon’t miss this barn burner \n\n\n: @kittymaven // @mismatched_media
URL:https://www.redcarpetnightclub.com/upcoming-events/head-the-warning-gruven-x-gradience-voltaic-drive/
LOCATION:Keller Bar
CATEGORIES:Activity,Live Music,Live Performace
ATTACH;FMTTYPE=image/png:https://www.redcarpetnightclub.com/wp-content/uploads/2026/04/Keller-Gruven-X-Heed-The-Warning-Gradience-Voltaic-Drive-.png
END:VEVENT
BEGIN:VEVENT
DTSTART;TZID=America/Chicago:20260502T210000
DTEND;TZID=America/Chicago:20260502T210000
DTSTAMP:20260420T162508
CREATED:20260414T205412Z
LAST-MODIFIED:20260414T205428Z
UID:10012341-1777755600-1777755600@www.redcarpetnightclub.com
SUMMARY:Murder Curious // Red Vinter // Sweet Land // Bare Knukle Brawl
DESCRIPTION:Murder Curious: Based out of Minneapolis Minnesota\, is a trio of misfits known only as Murder Curious. Under the influence of grunge\, metal\, heavy blues and old school punk\, Murder Curious has created an original sound that is not for the faint of heart. \nRed Vinter: St. Paul based doom/death metal heavyweights // “Ultra Heavy mix of industrial and sludge” \nSweetland: Doom band from Mankato & Winona\, MN. \nBare Knukle Brawl: Face ripping thrash metal band from Minnesota.  \nDOORS: 8:30 // SHOW 9 PM \n$5 Cover
URL:https://www.redcarpetnightclub.com/upcoming-events/murder-curious-red-vinter-sweet-land-bare-knukle-brawl/
LOCATION:Keller Bar
CATEGORIES:Activity,Live Music,Live Performace
ATTACH;FMTTYPE=image/jpeg:https://www.redcarpetnightclub.com/wp-content/uploads/2026/04/Murder-Curious.jpg
END:VEVENT
BEGIN:VEVENT
DTSTART;TZID=America/Chicago:20260502T210000
DTEND;TZID=America/Chicago:20260502T235500
DTSTAMP:20260420T162508
CREATED:20260223T212155Z
LAST-MODIFIED:20260223T212155Z
UID:10010491-1777755600-1777766100@www.redcarpetnightclub.com
SUMMARY:Mystery Machine
DESCRIPTION:Mystery Machine is a local band from the St Cloud area playing some of the best 70s and 80s Classic Rock ever! \nMore details coming soon!
URL:https://www.redcarpetnightclub.com/upcoming-events/mystery-machine/
LOCATION:Main Stage
CATEGORIES:Activity,Live Music,Live Performace
ATTACH;FMTTYPE=image/jpeg:https://www.redcarpetnightclub.com/wp-content/uploads/2026/02/Mystery-Machine.jpg
END:VEVENT
BEGIN:VEVENT
DTSTART;TZID=America/Chicago:20260507T180000
DTEND;TZID=America/Chicago:20260507T210000
DTSTAMP:20260420T162508
CREATED:20260416T192322Z
LAST-MODIFIED:20260416T192322Z
UID:10012354-1778176800-1778187600@www.redcarpetnightclub.com
SUMMARY:KELLER COMEDY PRESENTS: The Baby Roast of Bre & Ash
DESCRIPTION:Thursday May 7th.  \nThe Keller Comedy Open mic is hosting a very special event in the Red Carpet Event Center. Imagine a baby Shower\, but more fun\, and meaner; A Baby Roast.Bre and Ash are Red Carpet Royalty and we want to gift them.Erick Austin\, Mitch Elmsberg\, John Roster\, James Bruns\, and special guests will be roasting the happy couple. \nAll ticket sales will go to the young couple!Hosted by Matt Dooyema \nDOORS: 6 PM / ROAST: 7 PM  \nCOVER: $5 
URL:https://www.redcarpetnightclub.com/upcoming-events/keller-comedy-presents-the-baby-roast-of-bre-ash/
LOCATION:Event Center
CATEGORIES:Activity,Comedy,Live Performace
ATTACH;FMTTYPE=image/jpeg:https://www.redcarpetnightclub.com/wp-content/uploads/2026/04/att.hfWAb6pnnx-bP1T4EHYWI0333cxrIdRrGezHtWWx6iw.jpg
END:VEVENT
BEGIN:VEVENT
DTSTART;TZID=America/Chicago:20260508T203000
DTEND;TZID=America/Chicago:20260508T235500
DTSTAMP:20260420T162508
CREATED:20260414T224509Z
LAST-MODIFIED:20260414T224536Z
UID:10012345-1778272200-1778284500@www.redcarpetnightclub.com
SUMMARY:Let Them Cook: May Flowers
DESCRIPTION:Let Them Cook is Central Minnesota’s Open Stage for Drag and Burlesque performers! Whether you’re just starting or you’ve been performing for years\, this space is for you!\nProduced and hosted by Robin Hearts and A Dude Named Chad\, so you’re always guaranteed a fun time!\nLocation: Red Carpet // EVENT CENTER Date: Friday\, May 8thDoors Open: 8:30pmShow Start: 9:00pmPre-Sale Tickets: $5At-Door Tickets: $10
URL:https://www.redcarpetnightclub.com/upcoming-events/let-them-cook-may-flowers/
LOCATION:Event Center
CATEGORIES:Activity,Live Performace
ATTACH;FMTTYPE=image/jpeg:https://www.redcarpetnightclub.com/wp-content/uploads/2026/04/Let-Them-Cook-May.jpg
END:VEVENT
BEGIN:VEVENT
DTSTART;TZID=America/Chicago:20260508T213000
DTEND;TZID=America/Chicago:20260508T235500
DTSTAMP:20260420T162508
CREATED:20260223T162332Z
LAST-MODIFIED:20260223T162332Z
UID:10010469-1778275800-1778284500@www.redcarpetnightclub.com
SUMMARY:GB Leighton
DESCRIPTION:GB Leighton is BACK on the MAINSTAGE! \nCome and celebrate GB LEIGHTON\, SCSU Graduation and Mother’s Day weekend with us! \nDoors: 9 PM // Show starts @ 9:30 PM \nTICKET: $20 \n 
URL:https://www.redcarpetnightclub.com/upcoming-events/gb-leighton/
LOCATION:Main Stage
CATEGORIES:Activity,Live Music,Live Performace
ATTACH;FMTTYPE=image/jpeg:https://www.redcarpetnightclub.com/wp-content/uploads/2026/02/GB-Leighton_LOGO-Transparent.jpg
END:VEVENT
BEGIN:VEVENT
DTSTART;TZID=America/Chicago:20260509T210000
DTEND;TZID=America/Chicago:20260510T020000
DTSTAMP:20260420T162508
CREATED:20260414T211640Z
LAST-MODIFIED:20260414T225154Z
UID:10012342-1778360400-1778378400@www.redcarpetnightclub.com
SUMMARY:Etundra // Evandale // Waar Party
DESCRIPTION:St Cloud!!! We’re coming back and ready to rock the stage. Get out and let’s show The Red Carpet how its done!! \nDOORS: 8:30 / SHOW 9 PM \nAdvanced: $5.00 Ticket // Door: $10
URL:https://www.redcarpetnightclub.com/upcoming-events/etundra-evandale-waar-party/
LOCATION:Main Stage
CATEGORIES:Activity,Live Music,Live Performace
ATTACH;FMTTYPE=image/jpeg:https://www.redcarpetnightclub.com/wp-content/uploads/2026/04/Etundra.jpg
END:VEVENT
BEGIN:VEVENT
DTSTART;TZID=America/Chicago:20260509T210000
DTEND;TZID=America/Chicago:20260510T020000
DTSTAMP:20260420T162508
CREATED:20260415T013424Z
LAST-MODIFIED:20260415T013424Z
UID:10012349-1778360400-1778378400@www.redcarpetnightclub.com
SUMMARY:Ajax Productions // Live in the Keller
DESCRIPTION:More details to come!
URL:https://www.redcarpetnightclub.com/upcoming-events/ajax-productions-live-in-the-keller/
LOCATION:Keller Bar
CATEGORIES:Activity,Live Music,Live Performace,Music / DJ
ATTACH;FMTTYPE=image/jpeg:https://www.redcarpetnightclub.com/wp-content/uploads/2026/01/Ajax-Productions.jpg
END:VEVENT
BEGIN:VEVENT
DTSTART;TZID=America/Chicago:20260515T210000
DTEND;TZID=America/Chicago:20260515T235500
DTSTAMP:20260420T162508
CREATED:20260415T012219Z
LAST-MODIFIED:20260415T012233Z
UID:10012348-1778878800-1778889300@www.redcarpetnightclub.com
SUMMARY:2 Minutes to Maiden // Queens of the Ryche
DESCRIPTION:2 Minutes to Maiden: Iron Maiden tribute band /Atlantic Canada’s Beast from the East since 2004. Derrick Jensen – Vocals\, Guitar\, Sean Higgins – Lead/Rhythm Guitar\, Vocals\, Rob Nickerson – Lead/Rhythm Guitar\, Jason Young – Bass\, Joe Hollery – Drums \nQueens of the Ryche: A supergroup of top local MN musicians in a face-melting tribute to Queensryche. That’s a promise \nDoors: 8:30 PM // Show 9 PM\n$5 Advanced Ticket / $10 @ Door
URL:https://www.redcarpetnightclub.com/upcoming-events/2-minutes-to-maiden-queens-of-the-ryche/
LOCATION:Main Stage
CATEGORIES:Activity,Live Music,Live Performace
ATTACH;FMTTYPE=image/png:https://www.redcarpetnightclub.com/wp-content/uploads/2026/04/2-Minutes-to-Maiden-.png
END:VEVENT
BEGIN:VEVENT
DTSTART;TZID=America/Chicago:20260516T210000
DTEND;TZID=America/Chicago:20260516T235500
DTSTAMP:20260420T162508
CREATED:20260415T011126Z
LAST-MODIFIED:20260415T011126Z
UID:10012347-1778965200-1778975700@www.redcarpetnightclub.com
SUMMARY:Dark Omen's Presents: Half-Way to Halloween
DESCRIPTION:We are doing it again!Halfway to Halloween on the Red Carpet Mainstage featuring live music by:Toilet Rats: Synthy ChicaneryVoid Screams Back : Industrial and EBM ChicaneryCount Spookula: It’s Always Halloween\, need we say more?Visuals by: AepoptosisDJ Support by: Velvet Vincent$10 at the doorCostumes encouraged\, but not necessary \nDOORS:  9 PM
URL:https://www.redcarpetnightclub.com/upcoming-events/dark-omens-presents-half-way-to-halloween/
LOCATION:Main Stage
CATEGORIES:Activity,Live Music,Live Performace,Music / DJ
ATTACH;FMTTYPE=image/png:https://www.redcarpetnightclub.com/wp-content/uploads/2026/04/Dark-Omens-Half-Way-to-Halloween-.png
END:VEVENT
BEGIN:VEVENT
DTSTART;TZID=America/Chicago:20260522T203000
DTEND;TZID=America/Chicago:20260522T235500
DTSTAMP:20260420T162508
CREATED:20260313T160353Z
LAST-MODIFIED:20260313T160353Z
UID:10010500-1779481800-1779494100@www.redcarpetnightclub.com
SUMMARY:System 13
DESCRIPTION:System 13 gets Loud At The Red Carpet. \nMinnesota’s System13 bringing you the best Rock/Hard Rock\, Country\, Alternative and Pop hits played their way. \n$8 in advance $10 @door \nDoors: 8:30 pm // Show at 9 pm
URL:https://www.redcarpetnightclub.com/upcoming-events/system-13/
LOCATION:Main Stage
CATEGORIES:Activity,Live Music,Live Performace
ATTACH;FMTTYPE=image/jpeg:https://www.redcarpetnightclub.com/wp-content/uploads/2026/03/System-13.jpg
END:VEVENT
BEGIN:VEVENT
DTSTART;TZID=America/Chicago:20260523T200000
DTEND;TZID=America/Chicago:20260524T003000
DTSTAMP:20260420T162508
CREATED:20260414T215532Z
LAST-MODIFIED:20260415T013817Z
UID:10012343-1779566400-1779582600@www.redcarpetnightclub.com
SUMMARY:Parker's Picnic // Next Chapter // Major Oversight
DESCRIPTION:Parker’s Picnic: Minnesota band specializing in original 70s-90s inspired metal. \nNext Chapter: We’re a rock\, punk\, pop\, and metal band from the Twin Cities\, delivering hits from the ’70s to the 2000s — plus hard-hitting originals you won’t forget. \nMajor Oversight: Metal band of brothers born out of the St. Croix. Tyler Moe – Guitar\, Ryan Moe – Bass\, Macky Sheldon – Drums \n$5 Cover – 21+ – Doors at 8:00 – Music 8:30-12:30
URL:https://www.redcarpetnightclub.com/upcoming-events/parkers-picnic-next-chapter-oversight/
LOCATION:Keller Bar
CATEGORIES:Activity,Live Music,Live Performace
ATTACH;FMTTYPE=image/jpeg:https://www.redcarpetnightclub.com/wp-content/uploads/2026/04/Keller-Parkers-Picnic.jpg
END:VEVENT
BEGIN:VEVENT
DTSTART;TZID=America/Chicago:20260529T203000
DTEND;TZID=America/Chicago:20260529T235500
DTSTAMP:20260420T162508
CREATED:20260415T014127Z
LAST-MODIFIED:20260420T204551Z
UID:10012350-1780086600-1780098900@www.redcarpetnightclub.com
SUMMARY:RIFF RITUAL at The Red Carpet // RustBucket // Rahvn // Boor
DESCRIPTION:DOORS: 8:30\nCOVER:  $10\n\nRustBucket\, Boor\, and RAHVN – An Atmospheric Blackened Backyard Doom Groove sort of night at The Red Carpet.\n—\nRustBucket:\n“Bottom line is they take blues\, add doom and stoner/groove metal vibes\, and create their own distinct style that can stand strong on a metal bill.” – https://mnbleedsmetal.com/show-recap-07-26-2025-bonefire…/\nhttps://rustbucket2.bandcamp.com/album/rust-bucket\n—\nBoor:\n“[Boor] pushes some styles together into a somewhat atypical sound that is heavy\, harsh\, and aggressive\, but very smoothly combined to produce a final product that is very impressive” – https://mnbleedsmetal.com/21-spins-boor-the-dense-drag/\nhttps://boorband.bandcamp.com/album/the-dense-drag\n—\nRAHVN:\n“If you like death metal\, black metal or any form of relentless\, extreme metal\, check this one out.” – https://mnbleedsmetal.com/rage-therapy-rahvn-devouring…/\nhttps://rahvn.bandcamp.com/album/devouring-the-frail
URL:https://www.redcarpetnightclub.com/upcoming-events/rust-bucket/
LOCATION:Main Stage
CATEGORIES:Activity,Live Music,Live Performace
ATTACH;FMTTYPE=image/jpeg:https://www.redcarpetnightclub.com/wp-content/uploads/2026/04/Riff-Ritual.jpg
END:VEVENT
BEGIN:VEVENT
DTSTART;TZID=America/Chicago:20260530T210000
DTEND;TZID=America/Chicago:20260531T020000
DTSTAMP:20260420T162508
CREATED:20260420T204045Z
LAST-MODIFIED:20260420T204045Z
UID:10012360-1780174800-1780192800@www.redcarpetnightclub.com
SUMMARY:302 Muzik Presents: Beat Battle St. Cloud 12
DESCRIPTION:Beat Battle St. Cloud is back with round #12! \nSix producers\, 5 judges\, live Hip Hop performances\, and an all around amazing night of vibes hosted by L-DuB!\nTime: 9 PM\nKeller Bar\nHow it works:*The six producers will get entered into a round robin bracket\, meaning they will all battle each other over the course of the night.\n*It’s very similar to a rap battle\, but instead the producers play their hottest beats!\n*Producers get 1 minute per beat\, 2 beats per battle. Each round starts with a coin toss to determine who will play their beat first.\n*Five judges hand selected by L-DuB will vote after each battle\, the winner gets a point.\n*Most points after all battles have completed wins! Tie breaker round will occur if needed.\n\nProducers:*Dion Beats (Winner of BBSTC 11)*PrinceRaama*TBD – Reach out to L-DuB if interested!*TBD – Reach out to L-DuB if interested!*TBD – Reach out to L-DuB if interested!*TBD – Reach out to L-DuB if interested!\nJudges:*Bigg Brough*Blaq Justice (Also Performing live)*KPW (Also Performing live
URL:https://www.redcarpetnightclub.com/upcoming-events/302-muzik-presents-beat-battle-st-cloud-12/
LOCATION:Keller Bar
CATEGORIES:Activity,Live Music,Live Performace
ATTACH;FMTTYPE=image/jpeg:https://www.redcarpetnightclub.com/wp-content/uploads/2026/04/Beat-Battle-May-30th.jpg
END:VEVENT
BEGIN:VEVENT
DTSTART;TZID=America/Chicago:20260612T210000
DTEND;TZID=America/Chicago:20260612T235500
DTSTAMP:20260420T162508
CREATED:20260415T014536Z
LAST-MODIFIED:20260415T014536Z
UID:10012351-1781298000-1781308500@www.redcarpetnightclub.com
SUMMARY:Let Them Cook: JUNE EDITION
DESCRIPTION:Details to come!
URL:https://www.redcarpetnightclub.com/upcoming-events/let-them-cook-june-edition/
LOCATION:Main Stage
CATEGORIES:Activity,Live Performace
ATTACH;FMTTYPE=image/jpeg:https://www.redcarpetnightclub.com/wp-content/uploads/2025/09/Let-Them-Cook-Drag-Burlesque.jpg
END:VEVENT
BEGIN:VEVENT
DTSTART;TZID=America/Chicago:20260613T210000
DTEND;TZID=America/Chicago:20260613T235500
DTSTAMP:20260420T162508
CREATED:20260206T013310Z
LAST-MODIFIED:20260420T125532Z
UID:10010455-1781384400-1781394900@www.redcarpetnightclub.com
SUMMARY:Pink Taco (Debut Show) // Seattle Reign
DESCRIPTION:Pink Taco and Seattle Reign will be playing at the Red Carpet in St. Cloud Saturday June 13th!!! Hope you can make it and bring all of your friends!!! This will be a fun night of 90s alternative rock for a dose of the good old days!!!  \n  \nDOORS: 8:30 / SHOW 9 PM \nAdvanced Ticket: $7.00 \nDOOR: $10.00
URL:https://www.redcarpetnightclub.com/upcoming-events/pink-taco-debut-show-w-seattle-reign/
LOCATION:Main Stage
CATEGORIES:Live Music,Live Performace
ATTACH;FMTTYPE=image/jpeg:https://www.redcarpetnightclub.com/wp-content/uploads/2026/02/Pink-Taco-Red-Carpet-Poster-Final-scaled.jpg
END:VEVENT
BEGIN:VEVENT
DTSTART;TZID=America/Chicago:20260626T200000
DTEND;TZID=America/Chicago:20260627T010000
DTSTAMP:20260420T162508
CREATED:20260415T020031Z
LAST-MODIFIED:20260415T020031Z
UID:10012353-1782504000-1782522000@www.redcarpetnightclub.com
SUMMARY:MUFFLEUR // 18+ EVENT
DESCRIPTION:MORE DETAILS TO COME!
URL:https://www.redcarpetnightclub.com/upcoming-events/muffleur-18-event/
LOCATION:Main Stage
CATEGORIES:Activity,Live Music,Live Performace
ATTACH;FMTTYPE=image/jpeg:https://www.redcarpetnightclub.com/wp-content/uploads/2026/04/Muffleur.jpg
END:VEVENT
BEGIN:VEVENT
DTSTART;TZID=America/Chicago:20260711T210000
DTEND;TZID=America/Chicago:20260711T235500
DTSTAMP:20260420T162508
CREATED:20260223T211602Z
LAST-MODIFIED:20260223T211602Z
UID:10010490-1783803600-1783814100@www.redcarpetnightclub.com
SUMMARY:Surahoolies
DESCRIPTION:TICKET LINK COMING SOON! \n 
URL:https://www.redcarpetnightclub.com/upcoming-events/surahoolies/
LOCATION:Main Stage
CATEGORIES:Activity,Live Music,Live Performace
ATTACH;FMTTYPE=image/jpeg:https://www.redcarpetnightclub.com/wp-content/uploads/2026/02/Surahoolies.jpg
END:VEVENT
BEGIN:VEVENT
DTSTART;TZID=America/Chicago:20260814T180000
DTEND;TZID=America/Chicago:20260814T233000
DTSTAMP:20260420T162508
CREATED:20260313T212940Z
LAST-MODIFIED:20260313T212940Z
UID:10010501-1786730400-1786750200@www.redcarpetnightclub.com
SUMMARY:The Crimson Griffin - The Battle of the 7
DESCRIPTION:Welcome to The Crimson Griffin created by Stephen Meynel and hosted at the Red Carpet Nightclub! We are a high-fantasy tavern experience \nBe There! August 14th and 15th!! More details to come!!! \n🦁✨ Fantasy Tavern Experience\n🍹 Alchemy Bar • 🎭 Live Characters • 🎩 Artisan Vendors\n📜 Step into the story… #CrimsonGriffinTavern \n 
URL:https://www.redcarpetnightclub.com/upcoming-events/the-crimson-griffin-the-battle-of-the-7/
LOCATION:Event Center
CATEGORIES:Activity,Music / DJ
ATTACH;FMTTYPE=image/jpeg:https://www.redcarpetnightclub.com/wp-content/uploads/2026/03/Crimson-Griffin.jpg
END:VEVENT
END:VCALENDAR