BEGIN:VCALENDAR
VERSION:2.0
PRODID:-//Red Carpet Nightclub - ECPv6.15.20//NONSGML v1.0//EN
CALSCALE:GREGORIAN
METHOD:PUBLISH
X-WR-CALNAME:Red Carpet Nightclub
X-ORIGINAL-URL:https://www.redcarpetnightclub.com
X-WR-CALDESC:Events for Red Carpet Nightclub
REFRESH-INTERVAL;VALUE=DURATION:PT1H
X-Robots-Tag:noindex
X-PUBLISHED-TTL:PT1H
BEGIN:VTIMEZONE
TZID:America/Chicago
BEGIN:DAYLIGHT
TZOFFSETFROM:-0600
TZOFFSETTO:-0500
TZNAME:CDT
DTSTART:20240310T080000
END:DAYLIGHT
BEGIN:STANDARD
TZOFFSETFROM:-0500
TZOFFSETTO:-0600
TZNAME:CST
DTSTART:20241103T070000
END:STANDARD
BEGIN:DAYLIGHT
TZOFFSETFROM:-0600
TZOFFSETTO:-0500
TZNAME:CDT
DTSTART:20250309T080000
END:DAYLIGHT
BEGIN:STANDARD
TZOFFSETFROM:-0500
TZOFFSETTO:-0600
TZNAME:CST
DTSTART:20251102T070000
END:STANDARD
BEGIN:DAYLIGHT
TZOFFSETFROM:-0600
TZOFFSETTO:-0500
TZNAME:CDT
DTSTART:20260308T080000
END:DAYLIGHT
BEGIN:STANDARD
TZOFFSETFROM:-0500
TZOFFSETTO:-0600
TZNAME:CST
DTSTART:20261101T070000
END:STANDARD
BEGIN:DAYLIGHT
TZOFFSETFROM:-0600
TZOFFSETTO:-0500
TZNAME:CDT
DTSTART:20270314T080000
END:DAYLIGHT
BEGIN:STANDARD
TZOFFSETFROM:-0500
TZOFFSETTO:-0600
TZNAME:CST
DTSTART:20271107T070000
END:STANDARD
END:VTIMEZONE
BEGIN:VEVENT
DTSTART;TZID=America/Chicago:20251205T193000
DTEND;TZID=America/Chicago:20251205T235500
DTSTAMP:20260423T110915
CREATED:20251017T161310Z
LAST-MODIFIED:20251028T175418Z
UID:10009772-1764963000-1764978900@www.redcarpetnightclub.com
SUMMARY:Six to Midnight
DESCRIPTION:Catch Six to Midnight on the Mainstage: December 5th \nDoors@7:30 / Show @ 8 PM \nCover: $10 \nPremier Cover Band in Minnesota \nEstablished in 2012\, Six to Midnight is a high-energy cover band bringing the best live music experience to events in St. Paul\, Minneapolis\, and ST. CLOUD!  Ever wonder why “Six to Midnight”? It’s not about the hours; our journey started with a catchy name that transformed into a party band with the promise to make any night unforgettable!  They play everything: 90’s hits\, 2000s favorites\, today’s chart-toppers\, and even that country song everyone loves to sing at bar close. No gimmicks\, no costumes—just pure love for music\, some really bad jokes\, and a touch of whiskey.
URL:https://www.redcarpetnightclub.com/upcoming-events/six-to-midnight/
LOCATION:Main Stage
CATEGORIES:Live Music,Live Performace
ATTACH;FMTTYPE=image/jpeg:https://www.redcarpetnightclub.com/wp-content/uploads/2025/10/5556563808259353429.jpg
END:VEVENT
BEGIN:VEVENT
DTSTART;TZID=America/Chicago:20251206T200000
DTEND;TZID=America/Chicago:20251206T235500
DTSTAMP:20260423T110915
CREATED:20251104T153816Z
LAST-MODIFIED:20251104T153816Z
UID:10009783-1765051200-1765065300@www.redcarpetnightclub.com
SUMMARY:KISSin Time & Hellion Rock
DESCRIPTION:Come out and rock The Red Carpet on Sat. Dec. 6th. \nKISSin Time\, a Make-Up Era tribute to KISS\, and opening band\, Hellion\, a tribute to Judas Priest take the stage at 8:00 PM.
URL:https://www.redcarpetnightclub.com/upcoming-events/kissin-time-hellion-rock/
LOCATION:Main Stage
CATEGORIES:Live Music,Live Performace
ATTACH;FMTTYPE=image/jpeg:https://www.redcarpetnightclub.com/wp-content/uploads/2025/11/KISSin.jpg
END:VEVENT
BEGIN:VEVENT
DTSTART;TZID=America/Chicago:20251211T210000
DTEND;TZID=America/Chicago:20251212T010000
DTSTAMP:20260423T110915
CREATED:20251125T011515Z
LAST-MODIFIED:20251125T012447Z
UID:10010090-1765486800-1765501200@www.redcarpetnightclub.com
SUMMARY:18+ Night / Ugly Sweater Holiday Dance Party
DESCRIPTION:Red Carpet Nightclub / Main Stage \nDJ: Chance Hance \n\n\nAges: 18+ / Must Be 21+ To Drink Alcohol \n\n\nTime: 9 PM – 1 AM / No Re-Entry \n\n\n$5 Cover (Free Admission 9- 10 PM\, if you’re wearing an UGLY SWEATER or you BRING A TOY to donate to local charity) \n\n\nWIN the Ugly Sweater contest!
URL:https://www.redcarpetnightclub.com/upcoming-events/18-night-ugly-sweater-holiday-dance-party/
LOCATION:Main Stage
CATEGORIES:Live Performace,Music / DJ
ATTACH;FMTTYPE=application/pdf:https://www.redcarpetnightclub.com/wp-content/uploads/2025/11/Sweater-Party.pdf
END:VEVENT
BEGIN:VEVENT
DTSTART;TZID=America/Chicago:20251212T210000
DTEND;TZID=America/Chicago:20251212T233000
DTSTAMP:20260423T110915
CREATED:20251119T150707Z
LAST-MODIFIED:20251119T150707Z
UID:10009790-1765573200-1765582200@www.redcarpetnightclub.com
SUMMARY:Let Them Cook
DESCRIPTION:Let Them Cook is Central Minnesota’s Open Stage for Drag and Burlesque performers! Whether you’re just starting or you’ve been performing for years\, this space is for you!\nProduced and hosted by Robin Hearts and A Dude Named Chad\, so you’re always guaranteed a fun time!\nLocation: Red Carpet Main StageDate: Friday\, December 12thDoors Open: 8:30pmShow Start: 9:00pmPre-Sale Tickets: $5At-Door Tickets: $10
URL:https://www.redcarpetnightclub.com/upcoming-events/let-them-cook-5/
LOCATION:Main Stage
CATEGORIES:Activity,Live Performace
ATTACH;FMTTYPE=image/jpeg:https://www.redcarpetnightclub.com/wp-content/uploads/2025/11/Let-Them-Cook-Dec.jpg
END:VEVENT
BEGIN:VEVENT
DTSTART;TZID=America/Chicago:20251213T200000
DTEND;TZID=America/Chicago:20251213T235500
DTSTAMP:20260423T110915
CREATED:20250923T154655Z
LAST-MODIFIED:20250930T225432Z
UID:10009466-1765656000-1765670100@www.redcarpetnightclub.com
SUMMARY:Krampasnacht
DESCRIPTION:DOORS: 7:30 PM \nSHOW: 8 PM \n 
URL:https://www.redcarpetnightclub.com/upcoming-events/krampasnacht/
LOCATION:Main Stage
CATEGORIES:Live Music,Live Performace
ATTACH;FMTTYPE=image/png:https://www.redcarpetnightclub.com/wp-content/uploads/2025/09/Krampasnacht-.png
END:VEVENT
BEGIN:VEVENT
DTSTART;TZID=America/Chicago:20251219T200000
DTEND;TZID=America/Chicago:20251219T233000
DTSTAMP:20260423T110915
CREATED:20251016T160651Z
LAST-MODIFIED:20251110T150556Z
UID:10009769-1766174400-1766187000@www.redcarpetnightclub.com
SUMMARY:New Wave Night
DESCRIPTION:Friday\, December 19th — it’s New Wave Night at the Red Carpet Main Stage in St. Cloud! This show celebrates a new wave of local young talent rising in the Minneapolis music scene. Come out for a night of fresh sounds\, electric energy\, and modern twists on classic vibes.\n\n\n\nDoors open at 7:30PM\, music starts at 8PM\, and it’s just $5 at the door.\n\n\n\nLet’s meet the artists!\n\n\nBRIGHT YOUNG THINGS // indie pop //\n\n\nTHE OVER UNDERS // alt rock //\n\n\nSIMPLE MOTIONS // jangle pop //\n\n\nLOON BOOSTER // indie folkwave //\n\n 
URL:https://www.redcarpetnightclub.com/upcoming-events/simple-motions-4/
LOCATION:Main Stage
CATEGORIES:Live Music,Live Performace
ATTACH;FMTTYPE=image/png:https://www.redcarpetnightclub.com/wp-content/uploads/2025/10/121925-show_Poster-scaled.png
END:VEVENT
BEGIN:VEVENT
DTSTART;TZID=America/Chicago:20251220T200000
DTEND;TZID=America/Chicago:20251220T233000
DTSTAMP:20260423T110915
CREATED:20251119T151534Z
LAST-MODIFIED:20251201T150517Z
UID:10009791-1766260800-1766273400@www.redcarpetnightclub.com
SUMMARY:Seattle Reign & Looks That Kill
DESCRIPTION:Advanced tickets coming soon! \nSeattle Reign brings their high-powered\, authentic 90’s hard rock and grunge experience to the Red Carpet!!! Joining them are their good friends authentic Mötley Crüe tribute band Lööks Thät Kill!!!\n\nLööks Thät Kill will open the night at 8:00pm with a blistering greatest hits set of kick-ass old school 80’s Mötley Crüe metal! You’ll have a blast being transported back in time to the good old days when we didn’t have care in the world and rock was all that mattered!\n\nThen Seattle Reign will take the stage and allow you to release your aggression by giving you a ‘no f#cks given’ authentic 90’s hard rock and grunge show! You’ll see heavy\, hard-driving songs from Alice In Chains\, Soundgarden\, Helmet\, Tool\, Stone Temple Pilots\, Nirvana\, Foo Fighters\, Pearl Jam\, The Offspring\, Bush\, Local H\, Red Hot Chili Peppers\, Smashing Pumpkins\, Candlebox\, Sponge\, Deftones and Silverchair! You WILL be entertained!!! 
URL:https://www.redcarpetnightclub.com/upcoming-events/seattle-reign/
LOCATION:Main Stage
CATEGORIES:Live Music,Live Performace
ATTACH;FMTTYPE=image/jpeg:https://www.redcarpetnightclub.com/wp-content/uploads/2025/11/Seatle-Reign-Looks-That-Kill.jpg
END:VEVENT
BEGIN:VEVENT
DTSTART;TZID=America/Chicago:20251226T210000
DTEND;TZID=America/Chicago:20251226T233000
DTSTAMP:20260423T110915
CREATED:20251220T214353Z
LAST-MODIFIED:20251220T214353Z
UID:10010106-1766782800-1766791800@www.redcarpetnightclub.com
SUMMARY:Simple Motions
DESCRIPTION:A Groovy Indie Rock Band \nDoors: 8:30 PM \nShow 9 PM \nCover $5
URL:https://www.redcarpetnightclub.com/upcoming-events/simple-motions-5/
CATEGORIES:Live Music,Live Performace
ATTACH;FMTTYPE=image/jpeg:https://www.redcarpetnightclub.com/wp-content/uploads/2025/10/Simple-Motions-Oct-10th.jpg
END:VEVENT
BEGIN:VEVENT
DTSTART;TZID=America/Chicago:20251227T210000
DTEND;TZID=America/Chicago:20251227T233000
DTSTAMP:20260423T110915
CREATED:20251119T152314Z
LAST-MODIFIED:20251119T152326Z
UID:10009792-1766869200-1766878200@www.redcarpetnightclub.com
SUMMARY:AJAX PRODUCTIONS & RED CARPET NIGHTCLUB PRESENT: CHAOS & CLOUDS – XMAS SPECIAL
DESCRIPTION: AJAX PRODUCTIONS x RED CARPET NIGHTCLUB PRESENT  CHAOS & CLOUDS – XMAS SPECIAL Get ready for a night of INSANE energy\, heavy vibes\, and insane music this winter-season  HEADLINING: “WORLDWIDE CHAOS!” Featuring: “Tsunami The Dead God” “AJAX” “YMI Witless” “Yami Dews” “Cold Blooded” Saturday • December 27th Doors: 8 PM Music: 9 PM 21+ MAIN STAGE Giveaways ALL NIGHT courtesy of our amazing sponsors! Don’t miss the loudest Christmas weekend show in Minnesota!Advanced Tickets: $7 \nDoor: $10
URL:https://www.redcarpetnightclub.com/upcoming-events/ajax-productions-red-carpet-nightclub-present-chaos-clouds-xmas-special/
LOCATION:Main Stage
CATEGORIES:Live Music,Live Performace
ATTACH;FMTTYPE=image/jpeg:https://www.redcarpetnightclub.com/wp-content/uploads/2025/11/Chaos-Clouds.jpg
END:VEVENT
BEGIN:VEVENT
DTSTART;TZID=America/Chicago:20251231T210000
DTEND;TZID=America/Chicago:20260101T003000
DTSTAMP:20260423T110915
CREATED:20251210T171412Z
LAST-MODIFIED:20251210T171412Z
UID:10010095-1767214800-1767227400@www.redcarpetnightclub.com
SUMMARY:Adrian Washington New Years Eve Comedy Show
DESCRIPTION:If you were there for the bday show you know the layout!! This show ALWAYS sell out so don’t wait!! See you there! \nDoors: 8pm \nShow Start: 9pm \nAdvanced: $20 \nDoor: $25
URL:https://www.redcarpetnightclub.com/upcoming-events/adrian-washington-new-years-eve-comedy-show/
LOCATION:Main Stage
CATEGORIES:Comedy,Live Performace
ATTACH;FMTTYPE=image/jpeg:https://www.redcarpetnightclub.com/wp-content/uploads/2025/12/Adrian-Washington-website-nye.jpg
END:VEVENT
BEGIN:VEVENT
DTSTART;TZID=America/Chicago:20251231T210000
DTEND;TZID=America/Chicago:20260101T020000
DTSTAMP:20260423T110915
CREATED:20251217T164605Z
LAST-MODIFIED:20251217T165407Z
UID:10010104-1767214800-1767232800@www.redcarpetnightclub.com
SUMMARY:New Wave New Years Eve! Presented by Dark Omens
DESCRIPTION:Picture it: Saint Cloud\, late 1970s through the 1980s\, a time when disco was on its way out\, and new wave was emerging as the future with synthesizers\, irony\, and catchy hooks.\n\nBring your power suits\, teased hair\, pegged acid-washed jeans\, neon\, valley girls\, and flipped-up collars down to the Red Carpet Night Club Event Center on December 31 at 9:00 pm to this 21+ event to relive the age of New Wave and ring in the new year.\nBe there or be square.\n\nWITH: DJ VOID & DJ Velvet Vincent \n\n$5 cover\, 21 plus
URL:https://www.redcarpetnightclub.com/upcoming-events/new-wave-new-years-eve-presented-by-dark-omens/
LOCATION:Event Center
CATEGORIES:Live Music,Music / DJ
ATTACH;FMTTYPE=image/jpeg:https://www.redcarpetnightclub.com/wp-content/uploads/2025/12/New-Wave-NYE-Party.jpg
END:VEVENT
BEGIN:VEVENT
DTSTART;TZID=America/Chicago:20251231T220000
DTEND;TZID=America/Chicago:20251231T235500
DTSTAMP:20260423T110915
CREATED:20251229T145044Z
LAST-MODIFIED:20251229T145044Z
UID:10010150-1767218400-1767225300@www.redcarpetnightclub.com
SUMMARY:DJ EHAB NYE SHOW
DESCRIPTION:FREE!
URL:https://www.redcarpetnightclub.com/upcoming-events/dj-ehab-nye-show/
LOCATION:Game Room
CATEGORIES:Live Music,Live Performace,Music / DJ
ATTACH;FMTTYPE=image/png:https://www.redcarpetnightclub.com/wp-content/uploads/2025/12/Make-way-for-2026-3.png
END:VEVENT
END:VCALENDAR