BEGIN:VCALENDAR
VERSION:2.0
PRODID:-//Red Carpet Nightclub - ECPv6.15.20//NONSGML v1.0//EN
CALSCALE:GREGORIAN
METHOD:PUBLISH
X-ORIGINAL-URL:https://www.redcarpetnightclub.com
X-WR-CALDESC:Events for Red Carpet Nightclub
REFRESH-INTERVAL;VALUE=DURATION:PT1H
X-Robots-Tag:noindex
X-PUBLISHED-TTL:PT1H
BEGIN:VTIMEZONE
TZID:America/Chicago
BEGIN:DAYLIGHT
TZOFFSETFROM:-0600
TZOFFSETTO:-0500
TZNAME:CDT
DTSTART:20250309T080000
END:DAYLIGHT
BEGIN:STANDARD
TZOFFSETFROM:-0500
TZOFFSETTO:-0600
TZNAME:CST
DTSTART:20251102T070000
END:STANDARD
BEGIN:DAYLIGHT
TZOFFSETFROM:-0600
TZOFFSETTO:-0500
TZNAME:CDT
DTSTART:20260308T080000
END:DAYLIGHT
BEGIN:STANDARD
TZOFFSETFROM:-0500
TZOFFSETTO:-0600
TZNAME:CST
DTSTART:20261101T070000
END:STANDARD
BEGIN:DAYLIGHT
TZOFFSETFROM:-0600
TZOFFSETTO:-0500
TZNAME:CDT
DTSTART:20270314T080000
END:DAYLIGHT
BEGIN:STANDARD
TZOFFSETFROM:-0500
TZOFFSETTO:-0600
TZNAME:CST
DTSTART:20271107T070000
END:STANDARD
END:VTIMEZONE
BEGIN:VEVENT
DTSTART;TZID=America/Chicago:20260530T210000
DTEND;TZID=America/Chicago:20260531T020000
DTSTAMP:20260423T050441
CREATED:20260420T204045Z
LAST-MODIFIED:20260420T204045Z
UID:10012360-1780174800-1780192800@www.redcarpetnightclub.com
SUMMARY:302 Muzik Presents: Beat Battle St. Cloud 12
DESCRIPTION:Beat Battle St. Cloud is back with round #12! \nSix producers\, 5 judges\, live Hip Hop performances\, and an all around amazing night of vibes hosted by L-DuB!\nTime: 9 PM\nKeller Bar\nHow it works:*The six producers will get entered into a round robin bracket\, meaning they will all battle each other over the course of the night.\n*It’s very similar to a rap battle\, but instead the producers play their hottest beats!\n*Producers get 1 minute per beat\, 2 beats per battle. Each round starts with a coin toss to determine who will play their beat first.\n*Five judges hand selected by L-DuB will vote after each battle\, the winner gets a point.\n*Most points after all battles have completed wins! Tie breaker round will occur if needed.\n\nProducers:*Dion Beats (Winner of BBSTC 11)*PrinceRaama*TBD – Reach out to L-DuB if interested!*TBD – Reach out to L-DuB if interested!*TBD – Reach out to L-DuB if interested!*TBD – Reach out to L-DuB if interested!\nJudges:*Bigg Brough*Blaq Justice (Also Performing live)*KPW (Also Performing live
URL:https://www.redcarpetnightclub.com/upcoming-events/302-muzik-presents-beat-battle-st-cloud-12/
LOCATION:Keller Bar
CATEGORIES:Activity,Live Music,Live Performace
ATTACH;FMTTYPE=image/jpeg:https://www.redcarpetnightclub.com/wp-content/uploads/2026/04/Beat-Battle-May-30th.jpg
END:VEVENT
END:VCALENDAR