BEGIN:VCALENDAR
VERSION:2.0
PRODID:-//Red Carpet Nightclub - ECPv6.15.20//NONSGML v1.0//EN
CALSCALE:GREGORIAN
METHOD:PUBLISH
X-ORIGINAL-URL:https://www.redcarpetnightclub.com
X-WR-CALDESC:Events for Red Carpet Nightclub
REFRESH-INTERVAL;VALUE=DURATION:PT1H
X-Robots-Tag:noindex
X-PUBLISHED-TTL:PT1H
BEGIN:VTIMEZONE
TZID:America/Chicago
BEGIN:DAYLIGHT
TZOFFSETFROM:-0600
TZOFFSETTO:-0500
TZNAME:CDT
DTSTART:20250309T080000
END:DAYLIGHT
BEGIN:STANDARD
TZOFFSETFROM:-0500
TZOFFSETTO:-0600
TZNAME:CST
DTSTART:20251102T070000
END:STANDARD
BEGIN:DAYLIGHT
TZOFFSETFROM:-0600
TZOFFSETTO:-0500
TZNAME:CDT
DTSTART:20260308T080000
END:DAYLIGHT
BEGIN:STANDARD
TZOFFSETFROM:-0500
TZOFFSETTO:-0600
TZNAME:CST
DTSTART:20261101T070000
END:STANDARD
BEGIN:DAYLIGHT
TZOFFSETFROM:-0600
TZOFFSETTO:-0500
TZNAME:CDT
DTSTART:20270314T080000
END:DAYLIGHT
BEGIN:STANDARD
TZOFFSETFROM:-0500
TZOFFSETTO:-0600
TZNAME:CST
DTSTART:20271107T070000
END:STANDARD
END:VTIMEZONE
BEGIN:VEVENT
DTSTART;TZID=America/Chicago:20260425T210000
DTEND;TZID=America/Chicago:20260425T235500
DTSTAMP:20260420T031615
CREATED:20260414T223304Z
LAST-MODIFIED:20260414T223304Z
UID:10012344-1777150800-1777161300@www.redcarpetnightclub.com
SUMMARY:Analog Vibe // Greydeer // Scarlett Tangerines
DESCRIPTION:Analog Vibe: Minneapolis-based band delivering a diverse set of classic and modern rock tunes that is sure to keep audiences of all ages engaged and dancing. \nGreydeer: Minnesota based dreamo @kaeden.stevens 🎸🎤 @vince.livecchi 🥁 @clemandtsukii \nScarlett Tangerines: alternative rock band from Minneapolis\, MN \nTICKETS COMING SOON! \n 
URL:https://www.redcarpetnightclub.com/upcoming-events/analog-vibe-greydeer-scarlett-tangerines/
LOCATION:Main Stage
CATEGORIES:Activity,Live Music,Live Performace
ATTACH;FMTTYPE=image/png:https://www.redcarpetnightclub.com/wp-content/uploads/2026/01/Analog-Vibe.png
END:VEVENT
END:VCALENDAR