BEGIN:VCALENDAR
VERSION:2.0
PRODID:-//Red Carpet Nightclub - ECPv6.15.20//NONSGML v1.0//EN
CALSCALE:GREGORIAN
METHOD:PUBLISH
X-WR-CALNAME:Red Carpet Nightclub
X-ORIGINAL-URL:https://www.redcarpetnightclub.com
X-WR-CALDESC:Events for Red Carpet Nightclub
REFRESH-INTERVAL;VALUE=DURATION:PT1H
X-Robots-Tag:noindex
X-PUBLISHED-TTL:PT1H
BEGIN:VTIMEZONE
TZID:America/Chicago
BEGIN:DAYLIGHT
TZOFFSETFROM:-0600
TZOFFSETTO:-0500
TZNAME:CDT
DTSTART:20260308T080000
END:DAYLIGHT
BEGIN:STANDARD
TZOFFSETFROM:-0500
TZOFFSETTO:-0600
TZNAME:CST
DTSTART:20261101T070000
END:STANDARD
BEGIN:DAYLIGHT
TZOFFSETFROM:-0600
TZOFFSETTO:-0500
TZNAME:CDT
DTSTART:20270314T080000
END:DAYLIGHT
BEGIN:STANDARD
TZOFFSETFROM:-0500
TZOFFSETTO:-0600
TZNAME:CST
DTSTART:20271107T070000
END:STANDARD
BEGIN:DAYLIGHT
TZOFFSETFROM:-0600
TZOFFSETTO:-0500
TZNAME:CDT
DTSTART:20280312T080000
END:DAYLIGHT
BEGIN:STANDARD
TZOFFSETFROM:-0500
TZOFFSETTO:-0600
TZNAME:CST
DTSTART:20281105T070000
END:STANDARD
END:VTIMEZONE
BEGIN:VEVENT
DTSTART;TZID=America/Chicago:20270201T160000
DTEND;TZID=America/Chicago:20270201T235500
DTSTAMP:20260422T145832
CREATED:20260403T184856Z
LAST-MODIFIED:20260403T184856Z
UID:10010817-1801497600-1801526100@www.redcarpetnightclub.com
SUMMARY:POOL HALL // NEW GAMES // PRIVATE PARTIES AVAILABLE
DESCRIPTION:READY TO LEVEL UP YOUR NIGHT?  \nJoin us for NON-STOP GAMES & RETRO VIBES!  \n\nPOOL HALL (ACROSS FROM MARTINI LOUNGE)\nLive DJ every Saturday 10 PM\nOPEN HOURS:  TUESDAYS – SATURDAY 4 PM – CLOSE\n\nAVAILABLE GAMES:   \n\nBig Buck Hunter\nBubble Hockey\nDarts\nPinball\nPing Pong\nPool Tables & More!\n\n\nHOST OPEN GAME NIGHT! // AVAILABLE FOR PRIVATE PARTIES // Give us a call 320.251.4047 x 6 // or contact us via Website
URL:https://www.redcarpetnightclub.com/upcoming-events/pool-hall-new-games-private-parties-available/2027-02-01/
LOCATION:Game Room
CATEGORIES:Activity
ATTACH;FMTTYPE=application/pdf:https://www.redcarpetnightclub.com/wp-content/uploads/2026/04/NEW-GAMES-3.pdf
END:VEVENT
BEGIN:VEVENT
DTSTART;TZID=America/Chicago:20270202T160000
DTEND;TZID=America/Chicago:20270202T235500
DTSTAMP:20260422T145832
CREATED:20260403T184856Z
LAST-MODIFIED:20260403T184856Z
UID:10010818-1801584000-1801612500@www.redcarpetnightclub.com
SUMMARY:POOL HALL // NEW GAMES // PRIVATE PARTIES AVAILABLE
DESCRIPTION:READY TO LEVEL UP YOUR NIGHT?  \nJoin us for NON-STOP GAMES & RETRO VIBES!  \n\nPOOL HALL (ACROSS FROM MARTINI LOUNGE)\nLive DJ every Saturday 10 PM\nOPEN HOURS:  TUESDAYS – SATURDAY 4 PM – CLOSE\n\nAVAILABLE GAMES:   \n\nBig Buck Hunter\nBubble Hockey\nDarts\nPinball\nPing Pong\nPool Tables & More!\n\n\nHOST OPEN GAME NIGHT! // AVAILABLE FOR PRIVATE PARTIES // Give us a call 320.251.4047 x 6 // or contact us via Website
URL:https://www.redcarpetnightclub.com/upcoming-events/pool-hall-new-games-private-parties-available/2027-02-02/
LOCATION:Game Room
CATEGORIES:Activity
ATTACH;FMTTYPE=application/pdf:https://www.redcarpetnightclub.com/wp-content/uploads/2026/04/NEW-GAMES-3.pdf
END:VEVENT
BEGIN:VEVENT
DTSTART;TZID=America/Chicago:20270203T160000
DTEND;TZID=America/Chicago:20270203T235500
DTSTAMP:20260422T145832
CREATED:20260403T184856Z
LAST-MODIFIED:20260403T184856Z
UID:10010819-1801670400-1801698900@www.redcarpetnightclub.com
SUMMARY:POOL HALL // NEW GAMES // PRIVATE PARTIES AVAILABLE
DESCRIPTION:READY TO LEVEL UP YOUR NIGHT?  \nJoin us for NON-STOP GAMES & RETRO VIBES!  \n\nPOOL HALL (ACROSS FROM MARTINI LOUNGE)\nLive DJ every Saturday 10 PM\nOPEN HOURS:  TUESDAYS – SATURDAY 4 PM – CLOSE\n\nAVAILABLE GAMES:   \n\nBig Buck Hunter\nBubble Hockey\nDarts\nPinball\nPing Pong\nPool Tables & More!\n\n\nHOST OPEN GAME NIGHT! // AVAILABLE FOR PRIVATE PARTIES // Give us a call 320.251.4047 x 6 // or contact us via Website
URL:https://www.redcarpetnightclub.com/upcoming-events/pool-hall-new-games-private-parties-available/2027-02-03/
LOCATION:Game Room
CATEGORIES:Activity
ATTACH;FMTTYPE=application/pdf:https://www.redcarpetnightclub.com/wp-content/uploads/2026/04/NEW-GAMES-3.pdf
END:VEVENT
BEGIN:VEVENT
DTSTART;TZID=America/Chicago:20270204T160000
DTEND;TZID=America/Chicago:20270204T235500
DTSTAMP:20260422T145832
CREATED:20260403T184856Z
LAST-MODIFIED:20260403T184856Z
UID:10010820-1801756800-1801785300@www.redcarpetnightclub.com
SUMMARY:POOL HALL // NEW GAMES // PRIVATE PARTIES AVAILABLE
DESCRIPTION:READY TO LEVEL UP YOUR NIGHT?  \nJoin us for NON-STOP GAMES & RETRO VIBES!  \n\nPOOL HALL (ACROSS FROM MARTINI LOUNGE)\nLive DJ every Saturday 10 PM\nOPEN HOURS:  TUESDAYS – SATURDAY 4 PM – CLOSE\n\nAVAILABLE GAMES:   \n\nBig Buck Hunter\nBubble Hockey\nDarts\nPinball\nPing Pong\nPool Tables & More!\n\n\nHOST OPEN GAME NIGHT! // AVAILABLE FOR PRIVATE PARTIES // Give us a call 320.251.4047 x 6 // or contact us via Website
URL:https://www.redcarpetnightclub.com/upcoming-events/pool-hall-new-games-private-parties-available/2027-02-04/
LOCATION:Game Room
CATEGORIES:Activity
ATTACH;FMTTYPE=application/pdf:https://www.redcarpetnightclub.com/wp-content/uploads/2026/04/NEW-GAMES-3.pdf
END:VEVENT
BEGIN:VEVENT
DTSTART;TZID=America/Chicago:20270205T160000
DTEND;TZID=America/Chicago:20270205T235500
DTSTAMP:20260422T145832
CREATED:20260403T184856Z
LAST-MODIFIED:20260403T184856Z
UID:10010821-1801843200-1801871700@www.redcarpetnightclub.com
SUMMARY:POOL HALL // NEW GAMES // PRIVATE PARTIES AVAILABLE
DESCRIPTION:READY TO LEVEL UP YOUR NIGHT?  \nJoin us for NON-STOP GAMES & RETRO VIBES!  \n\nPOOL HALL (ACROSS FROM MARTINI LOUNGE)\nLive DJ every Saturday 10 PM\nOPEN HOURS:  TUESDAYS – SATURDAY 4 PM – CLOSE\n\nAVAILABLE GAMES:   \n\nBig Buck Hunter\nBubble Hockey\nDarts\nPinball\nPing Pong\nPool Tables & More!\n\n\nHOST OPEN GAME NIGHT! // AVAILABLE FOR PRIVATE PARTIES // Give us a call 320.251.4047 x 6 // or contact us via Website
URL:https://www.redcarpetnightclub.com/upcoming-events/pool-hall-new-games-private-parties-available/2027-02-05/
LOCATION:Game Room
CATEGORIES:Activity
ATTACH;FMTTYPE=application/pdf:https://www.redcarpetnightclub.com/wp-content/uploads/2026/04/NEW-GAMES-3.pdf
END:VEVENT
BEGIN:VEVENT
DTSTART;TZID=America/Chicago:20270206T160000
DTEND;TZID=America/Chicago:20270206T235500
DTSTAMP:20260422T145832
CREATED:20260403T184856Z
LAST-MODIFIED:20260403T184856Z
UID:10010822-1801929600-1801958100@www.redcarpetnightclub.com
SUMMARY:POOL HALL // NEW GAMES // PRIVATE PARTIES AVAILABLE
DESCRIPTION:READY TO LEVEL UP YOUR NIGHT?  \nJoin us for NON-STOP GAMES & RETRO VIBES!  \n\nPOOL HALL (ACROSS FROM MARTINI LOUNGE)\nLive DJ every Saturday 10 PM\nOPEN HOURS:  TUESDAYS – SATURDAY 4 PM – CLOSE\n\nAVAILABLE GAMES:   \n\nBig Buck Hunter\nBubble Hockey\nDarts\nPinball\nPing Pong\nPool Tables & More!\n\n\nHOST OPEN GAME NIGHT! // AVAILABLE FOR PRIVATE PARTIES // Give us a call 320.251.4047 x 6 // or contact us via Website
URL:https://www.redcarpetnightclub.com/upcoming-events/pool-hall-new-games-private-parties-available/2027-02-06/
LOCATION:Game Room
CATEGORIES:Activity
ATTACH;FMTTYPE=application/pdf:https://www.redcarpetnightclub.com/wp-content/uploads/2026/04/NEW-GAMES-3.pdf
END:VEVENT
BEGIN:VEVENT
DTSTART;TZID=America/Chicago:20270207T160000
DTEND;TZID=America/Chicago:20270207T235500
DTSTAMP:20260422T145832
CREATED:20260403T184856Z
LAST-MODIFIED:20260403T184856Z
UID:10010823-1802016000-1802044500@www.redcarpetnightclub.com
SUMMARY:POOL HALL // NEW GAMES // PRIVATE PARTIES AVAILABLE
DESCRIPTION:READY TO LEVEL UP YOUR NIGHT?  \nJoin us for NON-STOP GAMES & RETRO VIBES!  \n\nPOOL HALL (ACROSS FROM MARTINI LOUNGE)\nLive DJ every Saturday 10 PM\nOPEN HOURS:  TUESDAYS – SATURDAY 4 PM – CLOSE\n\nAVAILABLE GAMES:   \n\nBig Buck Hunter\nBubble Hockey\nDarts\nPinball\nPing Pong\nPool Tables & More!\n\n\nHOST OPEN GAME NIGHT! // AVAILABLE FOR PRIVATE PARTIES // Give us a call 320.251.4047 x 6 // or contact us via Website
URL:https://www.redcarpetnightclub.com/upcoming-events/pool-hall-new-games-private-parties-available/2027-02-07/
LOCATION:Game Room
CATEGORIES:Activity
ATTACH;FMTTYPE=application/pdf:https://www.redcarpetnightclub.com/wp-content/uploads/2026/04/NEW-GAMES-3.pdf
END:VEVENT
BEGIN:VEVENT
DTSTART;TZID=America/Chicago:20270208T160000
DTEND;TZID=America/Chicago:20270208T235500
DTSTAMP:20260422T145833
CREATED:20260403T184856Z
LAST-MODIFIED:20260403T184856Z
UID:10010824-1802102400-1802130900@www.redcarpetnightclub.com
SUMMARY:POOL HALL // NEW GAMES // PRIVATE PARTIES AVAILABLE
DESCRIPTION:READY TO LEVEL UP YOUR NIGHT?  \nJoin us for NON-STOP GAMES & RETRO VIBES!  \n\nPOOL HALL (ACROSS FROM MARTINI LOUNGE)\nLive DJ every Saturday 10 PM\nOPEN HOURS:  TUESDAYS – SATURDAY 4 PM – CLOSE\n\nAVAILABLE GAMES:   \n\nBig Buck Hunter\nBubble Hockey\nDarts\nPinball\nPing Pong\nPool Tables & More!\n\n\nHOST OPEN GAME NIGHT! // AVAILABLE FOR PRIVATE PARTIES // Give us a call 320.251.4047 x 6 // or contact us via Website
URL:https://www.redcarpetnightclub.com/upcoming-events/pool-hall-new-games-private-parties-available/2027-02-08/
LOCATION:Game Room
CATEGORIES:Activity
ATTACH;FMTTYPE=application/pdf:https://www.redcarpetnightclub.com/wp-content/uploads/2026/04/NEW-GAMES-3.pdf
END:VEVENT
BEGIN:VEVENT
DTSTART;TZID=America/Chicago:20270209T160000
DTEND;TZID=America/Chicago:20270209T235500
DTSTAMP:20260422T145833
CREATED:20260403T184856Z
LAST-MODIFIED:20260403T184856Z
UID:10010825-1802188800-1802217300@www.redcarpetnightclub.com
SUMMARY:POOL HALL // NEW GAMES // PRIVATE PARTIES AVAILABLE
DESCRIPTION:READY TO LEVEL UP YOUR NIGHT?  \nJoin us for NON-STOP GAMES & RETRO VIBES!  \n\nPOOL HALL (ACROSS FROM MARTINI LOUNGE)\nLive DJ every Saturday 10 PM\nOPEN HOURS:  TUESDAYS – SATURDAY 4 PM – CLOSE\n\nAVAILABLE GAMES:   \n\nBig Buck Hunter\nBubble Hockey\nDarts\nPinball\nPing Pong\nPool Tables & More!\n\n\nHOST OPEN GAME NIGHT! // AVAILABLE FOR PRIVATE PARTIES // Give us a call 320.251.4047 x 6 // or contact us via Website
URL:https://www.redcarpetnightclub.com/upcoming-events/pool-hall-new-games-private-parties-available/2027-02-09/
LOCATION:Game Room
CATEGORIES:Activity
ATTACH;FMTTYPE=application/pdf:https://www.redcarpetnightclub.com/wp-content/uploads/2026/04/NEW-GAMES-3.pdf
END:VEVENT
BEGIN:VEVENT
DTSTART;TZID=America/Chicago:20270210T160000
DTEND;TZID=America/Chicago:20270210T235500
DTSTAMP:20260422T145833
CREATED:20260403T184856Z
LAST-MODIFIED:20260403T184856Z
UID:10010826-1802275200-1802303700@www.redcarpetnightclub.com
SUMMARY:POOL HALL // NEW GAMES // PRIVATE PARTIES AVAILABLE
DESCRIPTION:READY TO LEVEL UP YOUR NIGHT?  \nJoin us for NON-STOP GAMES & RETRO VIBES!  \n\nPOOL HALL (ACROSS FROM MARTINI LOUNGE)\nLive DJ every Saturday 10 PM\nOPEN HOURS:  TUESDAYS – SATURDAY 4 PM – CLOSE\n\nAVAILABLE GAMES:   \n\nBig Buck Hunter\nBubble Hockey\nDarts\nPinball\nPing Pong\nPool Tables & More!\n\n\nHOST OPEN GAME NIGHT! // AVAILABLE FOR PRIVATE PARTIES // Give us a call 320.251.4047 x 6 // or contact us via Website
URL:https://www.redcarpetnightclub.com/upcoming-events/pool-hall-new-games-private-parties-available/2027-02-10/
LOCATION:Game Room
CATEGORIES:Activity
ATTACH;FMTTYPE=application/pdf:https://www.redcarpetnightclub.com/wp-content/uploads/2026/04/NEW-GAMES-3.pdf
END:VEVENT
BEGIN:VEVENT
DTSTART;TZID=America/Chicago:20270211T160000
DTEND;TZID=America/Chicago:20270211T235500
DTSTAMP:20260422T145833
CREATED:20260403T184856Z
LAST-MODIFIED:20260403T184856Z
UID:10010827-1802361600-1802390100@www.redcarpetnightclub.com
SUMMARY:POOL HALL // NEW GAMES // PRIVATE PARTIES AVAILABLE
DESCRIPTION:READY TO LEVEL UP YOUR NIGHT?  \nJoin us for NON-STOP GAMES & RETRO VIBES!  \n\nPOOL HALL (ACROSS FROM MARTINI LOUNGE)\nLive DJ every Saturday 10 PM\nOPEN HOURS:  TUESDAYS – SATURDAY 4 PM – CLOSE\n\nAVAILABLE GAMES:   \n\nBig Buck Hunter\nBubble Hockey\nDarts\nPinball\nPing Pong\nPool Tables & More!\n\n\nHOST OPEN GAME NIGHT! // AVAILABLE FOR PRIVATE PARTIES // Give us a call 320.251.4047 x 6 // or contact us via Website
URL:https://www.redcarpetnightclub.com/upcoming-events/pool-hall-new-games-private-parties-available/2027-02-11/
LOCATION:Game Room
CATEGORIES:Activity
ATTACH;FMTTYPE=application/pdf:https://www.redcarpetnightclub.com/wp-content/uploads/2026/04/NEW-GAMES-3.pdf
END:VEVENT
BEGIN:VEVENT
DTSTART;TZID=America/Chicago:20270212T160000
DTEND;TZID=America/Chicago:20270212T235500
DTSTAMP:20260422T145833
CREATED:20260403T184856Z
LAST-MODIFIED:20260403T184856Z
UID:10010828-1802448000-1802476500@www.redcarpetnightclub.com
SUMMARY:POOL HALL // NEW GAMES // PRIVATE PARTIES AVAILABLE
DESCRIPTION:READY TO LEVEL UP YOUR NIGHT?  \nJoin us for NON-STOP GAMES & RETRO VIBES!  \n\nPOOL HALL (ACROSS FROM MARTINI LOUNGE)\nLive DJ every Saturday 10 PM\nOPEN HOURS:  TUESDAYS – SATURDAY 4 PM – CLOSE\n\nAVAILABLE GAMES:   \n\nBig Buck Hunter\nBubble Hockey\nDarts\nPinball\nPing Pong\nPool Tables & More!\n\n\nHOST OPEN GAME NIGHT! // AVAILABLE FOR PRIVATE PARTIES // Give us a call 320.251.4047 x 6 // or contact us via Website
URL:https://www.redcarpetnightclub.com/upcoming-events/pool-hall-new-games-private-parties-available/2027-02-12/
LOCATION:Game Room
CATEGORIES:Activity
ATTACH;FMTTYPE=application/pdf:https://www.redcarpetnightclub.com/wp-content/uploads/2026/04/NEW-GAMES-3.pdf
END:VEVENT
BEGIN:VEVENT
DTSTART;TZID=America/Chicago:20270213T160000
DTEND;TZID=America/Chicago:20270213T235500
DTSTAMP:20260422T145833
CREATED:20260403T184856Z
LAST-MODIFIED:20260403T184856Z
UID:10010829-1802534400-1802562900@www.redcarpetnightclub.com
SUMMARY:POOL HALL // NEW GAMES // PRIVATE PARTIES AVAILABLE
DESCRIPTION:READY TO LEVEL UP YOUR NIGHT?  \nJoin us for NON-STOP GAMES & RETRO VIBES!  \n\nPOOL HALL (ACROSS FROM MARTINI LOUNGE)\nLive DJ every Saturday 10 PM\nOPEN HOURS:  TUESDAYS – SATURDAY 4 PM – CLOSE\n\nAVAILABLE GAMES:   \n\nBig Buck Hunter\nBubble Hockey\nDarts\nPinball\nPing Pong\nPool Tables & More!\n\n\nHOST OPEN GAME NIGHT! // AVAILABLE FOR PRIVATE PARTIES // Give us a call 320.251.4047 x 6 // or contact us via Website
URL:https://www.redcarpetnightclub.com/upcoming-events/pool-hall-new-games-private-parties-available/2027-02-13/
LOCATION:Game Room
CATEGORIES:Activity
ATTACH;FMTTYPE=application/pdf:https://www.redcarpetnightclub.com/wp-content/uploads/2026/04/NEW-GAMES-3.pdf
END:VEVENT
BEGIN:VEVENT
DTSTART;TZID=America/Chicago:20270214T160000
DTEND;TZID=America/Chicago:20270214T235500
DTSTAMP:20260422T145833
CREATED:20260403T184856Z
LAST-MODIFIED:20260403T184856Z
UID:10010830-1802620800-1802649300@www.redcarpetnightclub.com
SUMMARY:POOL HALL // NEW GAMES // PRIVATE PARTIES AVAILABLE
DESCRIPTION:READY TO LEVEL UP YOUR NIGHT?  \nJoin us for NON-STOP GAMES & RETRO VIBES!  \n\nPOOL HALL (ACROSS FROM MARTINI LOUNGE)\nLive DJ every Saturday 10 PM\nOPEN HOURS:  TUESDAYS – SATURDAY 4 PM – CLOSE\n\nAVAILABLE GAMES:   \n\nBig Buck Hunter\nBubble Hockey\nDarts\nPinball\nPing Pong\nPool Tables & More!\n\n\nHOST OPEN GAME NIGHT! // AVAILABLE FOR PRIVATE PARTIES // Give us a call 320.251.4047 x 6 // or contact us via Website
URL:https://www.redcarpetnightclub.com/upcoming-events/pool-hall-new-games-private-parties-available/2027-02-14/
LOCATION:Game Room
CATEGORIES:Activity
ATTACH;FMTTYPE=application/pdf:https://www.redcarpetnightclub.com/wp-content/uploads/2026/04/NEW-GAMES-3.pdf
END:VEVENT
BEGIN:VEVENT
DTSTART;TZID=America/Chicago:20270215T160000
DTEND;TZID=America/Chicago:20270215T235500
DTSTAMP:20260422T145833
CREATED:20260403T184856Z
LAST-MODIFIED:20260403T184856Z
UID:10010831-1802707200-1802735700@www.redcarpetnightclub.com
SUMMARY:POOL HALL // NEW GAMES // PRIVATE PARTIES AVAILABLE
DESCRIPTION:READY TO LEVEL UP YOUR NIGHT?  \nJoin us for NON-STOP GAMES & RETRO VIBES!  \n\nPOOL HALL (ACROSS FROM MARTINI LOUNGE)\nLive DJ every Saturday 10 PM\nOPEN HOURS:  TUESDAYS – SATURDAY 4 PM – CLOSE\n\nAVAILABLE GAMES:   \n\nBig Buck Hunter\nBubble Hockey\nDarts\nPinball\nPing Pong\nPool Tables & More!\n\n\nHOST OPEN GAME NIGHT! // AVAILABLE FOR PRIVATE PARTIES // Give us a call 320.251.4047 x 6 // or contact us via Website
URL:https://www.redcarpetnightclub.com/upcoming-events/pool-hall-new-games-private-parties-available/2027-02-15/
LOCATION:Game Room
CATEGORIES:Activity
ATTACH;FMTTYPE=application/pdf:https://www.redcarpetnightclub.com/wp-content/uploads/2026/04/NEW-GAMES-3.pdf
END:VEVENT
BEGIN:VEVENT
DTSTART;TZID=America/Chicago:20270216T160000
DTEND;TZID=America/Chicago:20270216T235500
DTSTAMP:20260422T145833
CREATED:20260403T184856Z
LAST-MODIFIED:20260403T184856Z
UID:10010832-1802793600-1802822100@www.redcarpetnightclub.com
SUMMARY:POOL HALL // NEW GAMES // PRIVATE PARTIES AVAILABLE
DESCRIPTION:READY TO LEVEL UP YOUR NIGHT?  \nJoin us for NON-STOP GAMES & RETRO VIBES!  \n\nPOOL HALL (ACROSS FROM MARTINI LOUNGE)\nLive DJ every Saturday 10 PM\nOPEN HOURS:  TUESDAYS – SATURDAY 4 PM – CLOSE\n\nAVAILABLE GAMES:   \n\nBig Buck Hunter\nBubble Hockey\nDarts\nPinball\nPing Pong\nPool Tables & More!\n\n\nHOST OPEN GAME NIGHT! // AVAILABLE FOR PRIVATE PARTIES // Give us a call 320.251.4047 x 6 // or contact us via Website
URL:https://www.redcarpetnightclub.com/upcoming-events/pool-hall-new-games-private-parties-available/2027-02-16/
LOCATION:Game Room
CATEGORIES:Activity
ATTACH;FMTTYPE=application/pdf:https://www.redcarpetnightclub.com/wp-content/uploads/2026/04/NEW-GAMES-3.pdf
END:VEVENT
BEGIN:VEVENT
DTSTART;TZID=America/Chicago:20270217T160000
DTEND;TZID=America/Chicago:20270217T235500
DTSTAMP:20260422T145833
CREATED:20260403T184856Z
LAST-MODIFIED:20260403T184856Z
UID:10010833-1802880000-1802908500@www.redcarpetnightclub.com
SUMMARY:POOL HALL // NEW GAMES // PRIVATE PARTIES AVAILABLE
DESCRIPTION:READY TO LEVEL UP YOUR NIGHT?  \nJoin us for NON-STOP GAMES & RETRO VIBES!  \n\nPOOL HALL (ACROSS FROM MARTINI LOUNGE)\nLive DJ every Saturday 10 PM\nOPEN HOURS:  TUESDAYS – SATURDAY 4 PM – CLOSE\n\nAVAILABLE GAMES:   \n\nBig Buck Hunter\nBubble Hockey\nDarts\nPinball\nPing Pong\nPool Tables & More!\n\n\nHOST OPEN GAME NIGHT! // AVAILABLE FOR PRIVATE PARTIES // Give us a call 320.251.4047 x 6 // or contact us via Website
URL:https://www.redcarpetnightclub.com/upcoming-events/pool-hall-new-games-private-parties-available/2027-02-17/
LOCATION:Game Room
CATEGORIES:Activity
ATTACH;FMTTYPE=application/pdf:https://www.redcarpetnightclub.com/wp-content/uploads/2026/04/NEW-GAMES-3.pdf
END:VEVENT
BEGIN:VEVENT
DTSTART;TZID=America/Chicago:20270218T160000
DTEND;TZID=America/Chicago:20270218T235500
DTSTAMP:20260422T145833
CREATED:20260403T184856Z
LAST-MODIFIED:20260403T184856Z
UID:10010834-1802966400-1802994900@www.redcarpetnightclub.com
SUMMARY:POOL HALL // NEW GAMES // PRIVATE PARTIES AVAILABLE
DESCRIPTION:READY TO LEVEL UP YOUR NIGHT?  \nJoin us for NON-STOP GAMES & RETRO VIBES!  \n\nPOOL HALL (ACROSS FROM MARTINI LOUNGE)\nLive DJ every Saturday 10 PM\nOPEN HOURS:  TUESDAYS – SATURDAY 4 PM – CLOSE\n\nAVAILABLE GAMES:   \n\nBig Buck Hunter\nBubble Hockey\nDarts\nPinball\nPing Pong\nPool Tables & More!\n\n\nHOST OPEN GAME NIGHT! // AVAILABLE FOR PRIVATE PARTIES // Give us a call 320.251.4047 x 6 // or contact us via Website
URL:https://www.redcarpetnightclub.com/upcoming-events/pool-hall-new-games-private-parties-available/2027-02-18/
LOCATION:Game Room
CATEGORIES:Activity
ATTACH;FMTTYPE=application/pdf:https://www.redcarpetnightclub.com/wp-content/uploads/2026/04/NEW-GAMES-3.pdf
END:VEVENT
BEGIN:VEVENT
DTSTART;TZID=America/Chicago:20270219T160000
DTEND;TZID=America/Chicago:20270219T235500
DTSTAMP:20260422T145833
CREATED:20260403T184856Z
LAST-MODIFIED:20260403T184856Z
UID:10010835-1803052800-1803081300@www.redcarpetnightclub.com
SUMMARY:POOL HALL // NEW GAMES // PRIVATE PARTIES AVAILABLE
DESCRIPTION:READY TO LEVEL UP YOUR NIGHT?  \nJoin us for NON-STOP GAMES & RETRO VIBES!  \n\nPOOL HALL (ACROSS FROM MARTINI LOUNGE)\nLive DJ every Saturday 10 PM\nOPEN HOURS:  TUESDAYS – SATURDAY 4 PM – CLOSE\n\nAVAILABLE GAMES:   \n\nBig Buck Hunter\nBubble Hockey\nDarts\nPinball\nPing Pong\nPool Tables & More!\n\n\nHOST OPEN GAME NIGHT! // AVAILABLE FOR PRIVATE PARTIES // Give us a call 320.251.4047 x 6 // or contact us via Website
URL:https://www.redcarpetnightclub.com/upcoming-events/pool-hall-new-games-private-parties-available/2027-02-19/
LOCATION:Game Room
CATEGORIES:Activity
ATTACH;FMTTYPE=application/pdf:https://www.redcarpetnightclub.com/wp-content/uploads/2026/04/NEW-GAMES-3.pdf
END:VEVENT
BEGIN:VEVENT
DTSTART;TZID=America/Chicago:20270220T160000
DTEND;TZID=America/Chicago:20270220T235500
DTSTAMP:20260422T145833
CREATED:20260403T184856Z
LAST-MODIFIED:20260403T184856Z
UID:10010836-1803139200-1803167700@www.redcarpetnightclub.com
SUMMARY:POOL HALL // NEW GAMES // PRIVATE PARTIES AVAILABLE
DESCRIPTION:READY TO LEVEL UP YOUR NIGHT?  \nJoin us for NON-STOP GAMES & RETRO VIBES!  \n\nPOOL HALL (ACROSS FROM MARTINI LOUNGE)\nLive DJ every Saturday 10 PM\nOPEN HOURS:  TUESDAYS – SATURDAY 4 PM – CLOSE\n\nAVAILABLE GAMES:   \n\nBig Buck Hunter\nBubble Hockey\nDarts\nPinball\nPing Pong\nPool Tables & More!\n\n\nHOST OPEN GAME NIGHT! // AVAILABLE FOR PRIVATE PARTIES // Give us a call 320.251.4047 x 6 // or contact us via Website
URL:https://www.redcarpetnightclub.com/upcoming-events/pool-hall-new-games-private-parties-available/2027-02-20/
LOCATION:Game Room
CATEGORIES:Activity
ATTACH;FMTTYPE=application/pdf:https://www.redcarpetnightclub.com/wp-content/uploads/2026/04/NEW-GAMES-3.pdf
END:VEVENT
BEGIN:VEVENT
DTSTART;TZID=America/Chicago:20270221T160000
DTEND;TZID=America/Chicago:20270221T235500
DTSTAMP:20260422T145833
CREATED:20260403T184856Z
LAST-MODIFIED:20260403T184856Z
UID:10010837-1803225600-1803254100@www.redcarpetnightclub.com
SUMMARY:POOL HALL // NEW GAMES // PRIVATE PARTIES AVAILABLE
DESCRIPTION:READY TO LEVEL UP YOUR NIGHT?  \nJoin us for NON-STOP GAMES & RETRO VIBES!  \n\nPOOL HALL (ACROSS FROM MARTINI LOUNGE)\nLive DJ every Saturday 10 PM\nOPEN HOURS:  TUESDAYS – SATURDAY 4 PM – CLOSE\n\nAVAILABLE GAMES:   \n\nBig Buck Hunter\nBubble Hockey\nDarts\nPinball\nPing Pong\nPool Tables & More!\n\n\nHOST OPEN GAME NIGHT! // AVAILABLE FOR PRIVATE PARTIES // Give us a call 320.251.4047 x 6 // or contact us via Website
URL:https://www.redcarpetnightclub.com/upcoming-events/pool-hall-new-games-private-parties-available/2027-02-21/
LOCATION:Game Room
CATEGORIES:Activity
ATTACH;FMTTYPE=application/pdf:https://www.redcarpetnightclub.com/wp-content/uploads/2026/04/NEW-GAMES-3.pdf
END:VEVENT
BEGIN:VEVENT
DTSTART;TZID=America/Chicago:20270222T160000
DTEND;TZID=America/Chicago:20270222T235500
DTSTAMP:20260422T145833
CREATED:20260403T184856Z
LAST-MODIFIED:20260403T184856Z
UID:10010838-1803312000-1803340500@www.redcarpetnightclub.com
SUMMARY:POOL HALL // NEW GAMES // PRIVATE PARTIES AVAILABLE
DESCRIPTION:READY TO LEVEL UP YOUR NIGHT?  \nJoin us for NON-STOP GAMES & RETRO VIBES!  \n\nPOOL HALL (ACROSS FROM MARTINI LOUNGE)\nLive DJ every Saturday 10 PM\nOPEN HOURS:  TUESDAYS – SATURDAY 4 PM – CLOSE\n\nAVAILABLE GAMES:   \n\nBig Buck Hunter\nBubble Hockey\nDarts\nPinball\nPing Pong\nPool Tables & More!\n\n\nHOST OPEN GAME NIGHT! // AVAILABLE FOR PRIVATE PARTIES // Give us a call 320.251.4047 x 6 // or contact us via Website
URL:https://www.redcarpetnightclub.com/upcoming-events/pool-hall-new-games-private-parties-available/2027-02-22/
LOCATION:Game Room
CATEGORIES:Activity
ATTACH;FMTTYPE=application/pdf:https://www.redcarpetnightclub.com/wp-content/uploads/2026/04/NEW-GAMES-3.pdf
END:VEVENT
BEGIN:VEVENT
DTSTART;TZID=America/Chicago:20270223T160000
DTEND;TZID=America/Chicago:20270223T235500
DTSTAMP:20260422T145833
CREATED:20260403T184856Z
LAST-MODIFIED:20260403T184856Z
UID:10010839-1803398400-1803426900@www.redcarpetnightclub.com
SUMMARY:POOL HALL // NEW GAMES // PRIVATE PARTIES AVAILABLE
DESCRIPTION:READY TO LEVEL UP YOUR NIGHT?  \nJoin us for NON-STOP GAMES & RETRO VIBES!  \n\nPOOL HALL (ACROSS FROM MARTINI LOUNGE)\nLive DJ every Saturday 10 PM\nOPEN HOURS:  TUESDAYS – SATURDAY 4 PM – CLOSE\n\nAVAILABLE GAMES:   \n\nBig Buck Hunter\nBubble Hockey\nDarts\nPinball\nPing Pong\nPool Tables & More!\n\n\nHOST OPEN GAME NIGHT! // AVAILABLE FOR PRIVATE PARTIES // Give us a call 320.251.4047 x 6 // or contact us via Website
URL:https://www.redcarpetnightclub.com/upcoming-events/pool-hall-new-games-private-parties-available/2027-02-23/
LOCATION:Game Room
CATEGORIES:Activity
ATTACH;FMTTYPE=application/pdf:https://www.redcarpetnightclub.com/wp-content/uploads/2026/04/NEW-GAMES-3.pdf
END:VEVENT
BEGIN:VEVENT
DTSTART;TZID=America/Chicago:20270224T160000
DTEND;TZID=America/Chicago:20270224T235500
DTSTAMP:20260422T145833
CREATED:20260403T184856Z
LAST-MODIFIED:20260403T184856Z
UID:10010840-1803484800-1803513300@www.redcarpetnightclub.com
SUMMARY:POOL HALL // NEW GAMES // PRIVATE PARTIES AVAILABLE
DESCRIPTION:READY TO LEVEL UP YOUR NIGHT?  \nJoin us for NON-STOP GAMES & RETRO VIBES!  \n\nPOOL HALL (ACROSS FROM MARTINI LOUNGE)\nLive DJ every Saturday 10 PM\nOPEN HOURS:  TUESDAYS – SATURDAY 4 PM – CLOSE\n\nAVAILABLE GAMES:   \n\nBig Buck Hunter\nBubble Hockey\nDarts\nPinball\nPing Pong\nPool Tables & More!\n\n\nHOST OPEN GAME NIGHT! // AVAILABLE FOR PRIVATE PARTIES // Give us a call 320.251.4047 x 6 // or contact us via Website
URL:https://www.redcarpetnightclub.com/upcoming-events/pool-hall-new-games-private-parties-available/2027-02-24/
LOCATION:Game Room
CATEGORIES:Activity
ATTACH;FMTTYPE=application/pdf:https://www.redcarpetnightclub.com/wp-content/uploads/2026/04/NEW-GAMES-3.pdf
END:VEVENT
BEGIN:VEVENT
DTSTART;TZID=America/Chicago:20270225T160000
DTEND;TZID=America/Chicago:20270225T235500
DTSTAMP:20260422T145833
CREATED:20260403T184856Z
LAST-MODIFIED:20260403T184856Z
UID:10010841-1803571200-1803599700@www.redcarpetnightclub.com
SUMMARY:POOL HALL // NEW GAMES // PRIVATE PARTIES AVAILABLE
DESCRIPTION:READY TO LEVEL UP YOUR NIGHT?  \nJoin us for NON-STOP GAMES & RETRO VIBES!  \n\nPOOL HALL (ACROSS FROM MARTINI LOUNGE)\nLive DJ every Saturday 10 PM\nOPEN HOURS:  TUESDAYS – SATURDAY 4 PM – CLOSE\n\nAVAILABLE GAMES:   \n\nBig Buck Hunter\nBubble Hockey\nDarts\nPinball\nPing Pong\nPool Tables & More!\n\n\nHOST OPEN GAME NIGHT! // AVAILABLE FOR PRIVATE PARTIES // Give us a call 320.251.4047 x 6 // or contact us via Website
URL:https://www.redcarpetnightclub.com/upcoming-events/pool-hall-new-games-private-parties-available/2027-02-25/
LOCATION:Game Room
CATEGORIES:Activity
ATTACH;FMTTYPE=application/pdf:https://www.redcarpetnightclub.com/wp-content/uploads/2026/04/NEW-GAMES-3.pdf
END:VEVENT
BEGIN:VEVENT
DTSTART;TZID=America/Chicago:20270226T160000
DTEND;TZID=America/Chicago:20270226T235500
DTSTAMP:20260422T145833
CREATED:20260403T184856Z
LAST-MODIFIED:20260403T184856Z
UID:10010842-1803657600-1803686100@www.redcarpetnightclub.com
SUMMARY:POOL HALL // NEW GAMES // PRIVATE PARTIES AVAILABLE
DESCRIPTION:READY TO LEVEL UP YOUR NIGHT?  \nJoin us for NON-STOP GAMES & RETRO VIBES!  \n\nPOOL HALL (ACROSS FROM MARTINI LOUNGE)\nLive DJ every Saturday 10 PM\nOPEN HOURS:  TUESDAYS – SATURDAY 4 PM – CLOSE\n\nAVAILABLE GAMES:   \n\nBig Buck Hunter\nBubble Hockey\nDarts\nPinball\nPing Pong\nPool Tables & More!\n\n\nHOST OPEN GAME NIGHT! // AVAILABLE FOR PRIVATE PARTIES // Give us a call 320.251.4047 x 6 // or contact us via Website
URL:https://www.redcarpetnightclub.com/upcoming-events/pool-hall-new-games-private-parties-available/2027-02-26/
LOCATION:Game Room
CATEGORIES:Activity
ATTACH;FMTTYPE=application/pdf:https://www.redcarpetnightclub.com/wp-content/uploads/2026/04/NEW-GAMES-3.pdf
END:VEVENT
BEGIN:VEVENT
DTSTART;TZID=America/Chicago:20270227T160000
DTEND;TZID=America/Chicago:20270227T235500
DTSTAMP:20260422T145833
CREATED:20260403T184856Z
LAST-MODIFIED:20260403T184856Z
UID:10010843-1803744000-1803772500@www.redcarpetnightclub.com
SUMMARY:POOL HALL // NEW GAMES // PRIVATE PARTIES AVAILABLE
DESCRIPTION:READY TO LEVEL UP YOUR NIGHT?  \nJoin us for NON-STOP GAMES & RETRO VIBES!  \n\nPOOL HALL (ACROSS FROM MARTINI LOUNGE)\nLive DJ every Saturday 10 PM\nOPEN HOURS:  TUESDAYS – SATURDAY 4 PM – CLOSE\n\nAVAILABLE GAMES:   \n\nBig Buck Hunter\nBubble Hockey\nDarts\nPinball\nPing Pong\nPool Tables & More!\n\n\nHOST OPEN GAME NIGHT! // AVAILABLE FOR PRIVATE PARTIES // Give us a call 320.251.4047 x 6 // or contact us via Website
URL:https://www.redcarpetnightclub.com/upcoming-events/pool-hall-new-games-private-parties-available/2027-02-27/
LOCATION:Game Room
CATEGORIES:Activity
ATTACH;FMTTYPE=application/pdf:https://www.redcarpetnightclub.com/wp-content/uploads/2026/04/NEW-GAMES-3.pdf
END:VEVENT
BEGIN:VEVENT
DTSTART;TZID=America/Chicago:20270228T160000
DTEND;TZID=America/Chicago:20270228T235500
DTSTAMP:20260422T145833
CREATED:20260403T184856Z
LAST-MODIFIED:20260403T184856Z
UID:10010844-1803830400-1803858900@www.redcarpetnightclub.com
SUMMARY:POOL HALL // NEW GAMES // PRIVATE PARTIES AVAILABLE
DESCRIPTION:READY TO LEVEL UP YOUR NIGHT?  \nJoin us for NON-STOP GAMES & RETRO VIBES!  \n\nPOOL HALL (ACROSS FROM MARTINI LOUNGE)\nLive DJ every Saturday 10 PM\nOPEN HOURS:  TUESDAYS – SATURDAY 4 PM – CLOSE\n\nAVAILABLE GAMES:   \n\nBig Buck Hunter\nBubble Hockey\nDarts\nPinball\nPing Pong\nPool Tables & More!\n\n\nHOST OPEN GAME NIGHT! // AVAILABLE FOR PRIVATE PARTIES // Give us a call 320.251.4047 x 6 // or contact us via Website
URL:https://www.redcarpetnightclub.com/upcoming-events/pool-hall-new-games-private-parties-available/2027-02-28/
LOCATION:Game Room
CATEGORIES:Activity
ATTACH;FMTTYPE=application/pdf:https://www.redcarpetnightclub.com/wp-content/uploads/2026/04/NEW-GAMES-3.pdf
END:VEVENT
END:VCALENDAR