BEGIN:VCALENDAR
VERSION:2.0
PRODID:-//Red Carpet Nightclub - ECPv6.15.20//NONSGML v1.0//EN
CALSCALE:GREGORIAN
METHOD:PUBLISH
X-WR-CALNAME:Red Carpet Nightclub
X-ORIGINAL-URL:https://www.redcarpetnightclub.com
X-WR-CALDESC:Events for Red Carpet Nightclub
REFRESH-INTERVAL;VALUE=DURATION:PT1H
X-Robots-Tag:noindex
X-PUBLISHED-TTL:PT1H
BEGIN:VTIMEZONE
TZID:America/Chicago
BEGIN:DAYLIGHT
TZOFFSETFROM:-0600
TZOFFSETTO:-0500
TZNAME:CDT
DTSTART:20240310T080000
END:DAYLIGHT
BEGIN:STANDARD
TZOFFSETFROM:-0500
TZOFFSETTO:-0600
TZNAME:CST
DTSTART:20241103T070000
END:STANDARD
BEGIN:DAYLIGHT
TZOFFSETFROM:-0600
TZOFFSETTO:-0500
TZNAME:CDT
DTSTART:20250309T080000
END:DAYLIGHT
BEGIN:STANDARD
TZOFFSETFROM:-0500
TZOFFSETTO:-0600
TZNAME:CST
DTSTART:20251102T070000
END:STANDARD
BEGIN:DAYLIGHT
TZOFFSETFROM:-0600
TZOFFSETTO:-0500
TZNAME:CDT
DTSTART:20260308T080000
END:DAYLIGHT
BEGIN:STANDARD
TZOFFSETFROM:-0500
TZOFFSETTO:-0600
TZNAME:CST
DTSTART:20261101T070000
END:STANDARD
END:VTIMEZONE
BEGIN:VEVENT
DTSTART;TZID=America/Chicago:20250806T203000
DTEND;TZID=America/Chicago:20250806T223000
DTSTAMP:20260422T163208
CREATED:20250610T220540Z
LAST-MODIFIED:20251014T145938Z
UID:10009485-1754512200-1754519400@www.redcarpetnightclub.com
SUMMARY:The Initials Game Live ( IGL)
DESCRIPTION:
URL:https://www.redcarpetnightclub.com/upcoming-events/the-initials-game-live-igl/2025-08-06/
LOCATION:Martini Lounge
CATEGORIES:Activity
ATTACH;FMTTYPE=image/jpeg:https://www.redcarpetnightclub.com/wp-content/uploads/2025/06/IMG_6177-1-scaled.jpg
END:VEVENT
BEGIN:VEVENT
DTSTART;TZID=America/Chicago:20250807T190000
DTEND;TZID=America/Chicago:20250807T220000
DTSTAMP:20260422T163208
CREATED:20241012T035227Z
LAST-MODIFIED:20250904T134750Z
UID:10007594-1754593200-1754604000@www.redcarpetnightclub.com
SUMMARY:Twisted Thursdays
DESCRIPTION:Get ready for a night filled with exciting games\, great company\, and prizes for the winners! Doors open at 7pm and Tournament at 8pm!
URL:https://www.redcarpetnightclub.com/upcoming-events/twisted-thursdays/2025-08-07/
LOCATION:Club Red
CATEGORIES:Activity
ATTACH;FMTTYPE=image/jpeg:https://www.redcarpetnightclub.com/wp-content/uploads/2024/10/462232126_3677108332599550_8765366686356058599_n.jpg
END:VEVENT
BEGIN:VEVENT
DTSTART;TZID=America/Chicago:20250813T203000
DTEND;TZID=America/Chicago:20250813T223000
DTSTAMP:20260422T163208
CREATED:20250610T220540Z
LAST-MODIFIED:20251014T145938Z
UID:10009486-1755117000-1755124200@www.redcarpetnightclub.com
SUMMARY:The Initials Game Live ( IGL)
DESCRIPTION:
URL:https://www.redcarpetnightclub.com/upcoming-events/the-initials-game-live-igl/2025-08-13/
LOCATION:Martini Lounge
CATEGORIES:Activity
ATTACH;FMTTYPE=image/jpeg:https://www.redcarpetnightclub.com/wp-content/uploads/2025/06/IMG_6177-1-scaled.jpg
END:VEVENT
BEGIN:VEVENT
DTSTART;TZID=America/Chicago:20250814T190000
DTEND;TZID=America/Chicago:20250814T220000
DTSTAMP:20260422T163208
CREATED:20241012T035227Z
LAST-MODIFIED:20250904T134750Z
UID:10007595-1755198000-1755208800@www.redcarpetnightclub.com
SUMMARY:Twisted Thursdays
DESCRIPTION:Get ready for a night filled with exciting games\, great company\, and prizes for the winners! Doors open at 7pm and Tournament at 8pm!
URL:https://www.redcarpetnightclub.com/upcoming-events/twisted-thursdays/2025-08-14/
LOCATION:Club Red
CATEGORIES:Activity
ATTACH;FMTTYPE=image/jpeg:https://www.redcarpetnightclub.com/wp-content/uploads/2024/10/462232126_3677108332599550_8765366686356058599_n.jpg
END:VEVENT
BEGIN:VEVENT
DTSTART;TZID=America/Chicago:20250820T203000
DTEND;TZID=America/Chicago:20250820T223000
DTSTAMP:20260422T163208
CREATED:20250610T220540Z
LAST-MODIFIED:20251014T145938Z
UID:10009487-1755721800-1755729000@www.redcarpetnightclub.com
SUMMARY:The Initials Game Live ( IGL)
DESCRIPTION:
URL:https://www.redcarpetnightclub.com/upcoming-events/the-initials-game-live-igl/2025-08-20/
LOCATION:Martini Lounge
CATEGORIES:Activity
ATTACH;FMTTYPE=image/jpeg:https://www.redcarpetnightclub.com/wp-content/uploads/2025/06/IMG_6177-1-scaled.jpg
END:VEVENT
BEGIN:VEVENT
DTSTART;TZID=America/Chicago:20250821T190000
DTEND;TZID=America/Chicago:20250821T220000
DTSTAMP:20260422T163208
CREATED:20241012T035227Z
LAST-MODIFIED:20250904T134750Z
UID:10007596-1755802800-1755813600@www.redcarpetnightclub.com
SUMMARY:Twisted Thursdays
DESCRIPTION:Get ready for a night filled with exciting games\, great company\, and prizes for the winners! Doors open at 7pm and Tournament at 8pm!
URL:https://www.redcarpetnightclub.com/upcoming-events/twisted-thursdays/2025-08-21/
LOCATION:Club Red
CATEGORIES:Activity
ATTACH;FMTTYPE=image/jpeg:https://www.redcarpetnightclub.com/wp-content/uploads/2024/10/462232126_3677108332599550_8765366686356058599_n.jpg
END:VEVENT
BEGIN:VEVENT
DTSTART;TZID=America/Chicago:20250827T203000
DTEND;TZID=America/Chicago:20250827T223000
DTSTAMP:20260422T163208
CREATED:20250610T220540Z
LAST-MODIFIED:20251014T145938Z
UID:10009488-1756326600-1756333800@www.redcarpetnightclub.com
SUMMARY:The Initials Game Live ( IGL)
DESCRIPTION:
URL:https://www.redcarpetnightclub.com/upcoming-events/the-initials-game-live-igl/2025-08-27/
LOCATION:Martini Lounge
CATEGORIES:Activity
ATTACH;FMTTYPE=image/jpeg:https://www.redcarpetnightclub.com/wp-content/uploads/2025/06/IMG_6177-1-scaled.jpg
END:VEVENT
BEGIN:VEVENT
DTSTART;TZID=America/Chicago:20250828T190000
DTEND;TZID=America/Chicago:20250828T220000
DTSTAMP:20260422T163208
CREATED:20241012T035227Z
LAST-MODIFIED:20250904T134750Z
UID:10007597-1756407600-1756418400@www.redcarpetnightclub.com
SUMMARY:Twisted Thursdays
DESCRIPTION:Get ready for a night filled with exciting games\, great company\, and prizes for the winners! Doors open at 7pm and Tournament at 8pm!
URL:https://www.redcarpetnightclub.com/upcoming-events/twisted-thursdays/2025-08-28/
LOCATION:Club Red
CATEGORIES:Activity
ATTACH;FMTTYPE=image/jpeg:https://www.redcarpetnightclub.com/wp-content/uploads/2024/10/462232126_3677108332599550_8765366686356058599_n.jpg
END:VEVENT
END:VCALENDAR