BEGIN:VCALENDAR
VERSION:2.0
PRODID:-//Red Carpet Nightclub - ECPv6.15.20//NONSGML v1.0//EN
CALSCALE:GREGORIAN
METHOD:PUBLISH
X-WR-CALNAME:Red Carpet Nightclub
X-ORIGINAL-URL:https://www.redcarpetnightclub.com
X-WR-CALDESC:Events for Red Carpet Nightclub
REFRESH-INTERVAL;VALUE=DURATION:PT1H
X-Robots-Tag:noindex
X-PUBLISHED-TTL:PT1H
BEGIN:VTIMEZONE
TZID:America/Chicago
BEGIN:DAYLIGHT
TZOFFSETFROM:-0600
TZOFFSETTO:-0500
TZNAME:CDT
DTSTART:20240310T080000
END:DAYLIGHT
BEGIN:STANDARD
TZOFFSETFROM:-0500
TZOFFSETTO:-0600
TZNAME:CST
DTSTART:20241103T070000
END:STANDARD
BEGIN:DAYLIGHT
TZOFFSETFROM:-0600
TZOFFSETTO:-0500
TZNAME:CDT
DTSTART:20250309T080000
END:DAYLIGHT
BEGIN:STANDARD
TZOFFSETFROM:-0500
TZOFFSETTO:-0600
TZNAME:CST
DTSTART:20251102T070000
END:STANDARD
BEGIN:DAYLIGHT
TZOFFSETFROM:-0600
TZOFFSETTO:-0500
TZNAME:CDT
DTSTART:20260308T080000
END:DAYLIGHT
BEGIN:STANDARD
TZOFFSETFROM:-0500
TZOFFSETTO:-0600
TZNAME:CST
DTSTART:20261101T070000
END:STANDARD
END:VTIMEZONE
BEGIN:VEVENT
DTSTART;TZID=America/Chicago:20250605T190000
DTEND;TZID=America/Chicago:20250605T220000
DTSTAMP:20260423T002702
CREATED:20241012T035227Z
LAST-MODIFIED:20250904T134750Z
UID:10007585-1749150000-1749160800@www.redcarpetnightclub.com
SUMMARY:Twisted Thursdays
DESCRIPTION:Get ready for a night filled with exciting games\, great company\, and prizes for the winners! Doors open at 7pm and Tournament at 8pm!
URL:https://www.redcarpetnightclub.com/upcoming-events/twisted-thursdays/2025-06-05/
LOCATION:Club Red
CATEGORIES:Activity
ATTACH;FMTTYPE=image/jpeg:https://www.redcarpetnightclub.com/wp-content/uploads/2024/10/462232126_3677108332599550_8765366686356058599_n.jpg
END:VEVENT
BEGIN:VEVENT
DTSTART;TZID=America/Chicago:20250612T190000
DTEND;TZID=America/Chicago:20250612T220000
DTSTAMP:20260423T002702
CREATED:20241012T035227Z
LAST-MODIFIED:20250904T134750Z
UID:10007586-1749754800-1749765600@www.redcarpetnightclub.com
SUMMARY:Twisted Thursdays
DESCRIPTION:Get ready for a night filled with exciting games\, great company\, and prizes for the winners! Doors open at 7pm and Tournament at 8pm!
URL:https://www.redcarpetnightclub.com/upcoming-events/twisted-thursdays/2025-06-12/
LOCATION:Club Red
CATEGORIES:Activity
ATTACH;FMTTYPE=image/jpeg:https://www.redcarpetnightclub.com/wp-content/uploads/2024/10/462232126_3677108332599550_8765366686356058599_n.jpg
END:VEVENT
BEGIN:VEVENT
DTSTART;TZID=America/Chicago:20250618T203000
DTEND;TZID=America/Chicago:20250618T223000
DTSTAMP:20260423T002702
CREATED:20250610T220540Z
LAST-MODIFIED:20251014T145938Z
UID:10009478-1750278600-1750285800@www.redcarpetnightclub.com
SUMMARY:The Initials Game Live ( IGL)
DESCRIPTION:
URL:https://www.redcarpetnightclub.com/upcoming-events/the-initials-game-live-igl/2025-06-18/
LOCATION:Martini Lounge
CATEGORIES:Activity
ATTACH;FMTTYPE=image/jpeg:https://www.redcarpetnightclub.com/wp-content/uploads/2025/06/IMG_6177-1-scaled.jpg
END:VEVENT
BEGIN:VEVENT
DTSTART;TZID=America/Chicago:20250619T190000
DTEND;TZID=America/Chicago:20250619T220000
DTSTAMP:20260423T002702
CREATED:20241012T035227Z
LAST-MODIFIED:20250904T134750Z
UID:10007587-1750359600-1750370400@www.redcarpetnightclub.com
SUMMARY:Twisted Thursdays
DESCRIPTION:Get ready for a night filled with exciting games\, great company\, and prizes for the winners! Doors open at 7pm and Tournament at 8pm!
URL:https://www.redcarpetnightclub.com/upcoming-events/twisted-thursdays/2025-06-19/
LOCATION:Club Red
CATEGORIES:Activity
ATTACH;FMTTYPE=image/jpeg:https://www.redcarpetnightclub.com/wp-content/uploads/2024/10/462232126_3677108332599550_8765366686356058599_n.jpg
END:VEVENT
BEGIN:VEVENT
DTSTART;TZID=America/Chicago:20250625T203000
DTEND;TZID=America/Chicago:20250625T223000
DTSTAMP:20260423T002702
CREATED:20250610T220540Z
LAST-MODIFIED:20251014T145938Z
UID:10009479-1750883400-1750890600@www.redcarpetnightclub.com
SUMMARY:The Initials Game Live ( IGL)
DESCRIPTION:
URL:https://www.redcarpetnightclub.com/upcoming-events/the-initials-game-live-igl/2025-06-25/
LOCATION:Martini Lounge
CATEGORIES:Activity
ATTACH;FMTTYPE=image/jpeg:https://www.redcarpetnightclub.com/wp-content/uploads/2025/06/IMG_6177-1-scaled.jpg
END:VEVENT
BEGIN:VEVENT
DTSTART;TZID=America/Chicago:20250626T190000
DTEND;TZID=America/Chicago:20250626T220000
DTSTAMP:20260423T002702
CREATED:20241012T035227Z
LAST-MODIFIED:20250904T134750Z
UID:10007588-1750964400-1750975200@www.redcarpetnightclub.com
SUMMARY:Twisted Thursdays
DESCRIPTION:Get ready for a night filled with exciting games\, great company\, and prizes for the winners! Doors open at 7pm and Tournament at 8pm!
URL:https://www.redcarpetnightclub.com/upcoming-events/twisted-thursdays/2025-06-26/
LOCATION:Club Red
CATEGORIES:Activity
ATTACH;FMTTYPE=image/jpeg:https://www.redcarpetnightclub.com/wp-content/uploads/2024/10/462232126_3677108332599550_8765366686356058599_n.jpg
END:VEVENT
END:VCALENDAR